BEGIN:VCALENDAR
VERSION:2.0
PRODID:-//Gerson Advisory Services - ECPv6.15.20//NONSGML v1.0//EN
CALSCALE:GREGORIAN
METHOD:PUBLISH
X-WR-CALNAME:Gerson Advisory Services
X-ORIGINAL-URL:https://gersonadvisoryservices.com
X-WR-CALDESC:Events for Gerson Advisory Services
REFRESH-INTERVAL;VALUE=DURATION:PT1H
X-Robots-Tag:noindex
X-PUBLISHED-TTL:PT1H
BEGIN:VTIMEZONE
TZID:America/New_York
BEGIN:DAYLIGHT
TZOFFSETFROM:-0500
TZOFFSETTO:-0400
TZNAME:EDT
DTSTART:20250309T070000
END:DAYLIGHT
BEGIN:STANDARD
TZOFFSETFROM:-0400
TZOFFSETTO:-0500
TZNAME:EST
DTSTART:20251102T060000
END:STANDARD
BEGIN:DAYLIGHT
TZOFFSETFROM:-0500
TZOFFSETTO:-0400
TZNAME:EDT
DTSTART:20260308T070000
END:DAYLIGHT
BEGIN:STANDARD
TZOFFSETFROM:-0400
TZOFFSETTO:-0500
TZNAME:EST
DTSTART:20261101T060000
END:STANDARD
BEGIN:DAYLIGHT
TZOFFSETFROM:-0500
TZOFFSETTO:-0400
TZNAME:EDT
DTSTART:20270314T070000
END:DAYLIGHT
BEGIN:STANDARD
TZOFFSETFROM:-0400
TZOFFSETTO:-0500
TZNAME:EST
DTSTART:20271107T060000
END:STANDARD
END:VTIMEZONE
BEGIN:VTIMEZONE
TZID:Pacific/Auckland
BEGIN:STANDARD
TZOFFSETFROM:+1300
TZOFFSETTO:+1200
TZNAME:NZST
DTSTART:20250405T140000
END:STANDARD
BEGIN:DAYLIGHT
TZOFFSETFROM:+1200
TZOFFSETTO:+1300
TZNAME:NZDT
DTSTART:20250927T140000
END:DAYLIGHT
BEGIN:STANDARD
TZOFFSETFROM:+1300
TZOFFSETTO:+1200
TZNAME:NZST
DTSTART:20260404T140000
END:STANDARD
BEGIN:DAYLIGHT
TZOFFSETFROM:+1200
TZOFFSETTO:+1300
TZNAME:NZDT
DTSTART:20260926T140000
END:DAYLIGHT
BEGIN:STANDARD
TZOFFSETFROM:+1300
TZOFFSETTO:+1200
TZNAME:NZST
DTSTART:20270403T140000
END:STANDARD
BEGIN:DAYLIGHT
TZOFFSETFROM:+1200
TZOFFSETTO:+1300
TZNAME:NZDT
DTSTART:20270925T140000
END:DAYLIGHT
END:VTIMEZONE
BEGIN:VEVENT
DTSTART;TZID=America/New_York:20260408T163000
DTEND;TZID=America/New_York:20260422T173000
DTSTAMP:20260419T091904
CREATED:20260320T201548Z
LAST-MODIFIED:20260320T202629Z
UID:2553-1775665800-1776879000@gersonadvisoryservices.com
SUMMARY:APRIL 2026: Leading at the Speed of Trust® Leadership Accelerator: Strengthening Franchisee & Customer Trust
DESCRIPTION:Leadership development program focused on building trust across franchise systems. Includes self-paced coursework and live virtual Power Huddle sessions. Covers executive credibility\, trust-based leadership\, alignment\, and system-wide performance acceleration.
URL:https://gersonadvisoryservices.com/event/april-2026-leading-at-the-speed-of-trust-leadership-accelerator-strengthening-franchisee-customer-trust/
LOCATION:Online Webinar
CATEGORIES:Webinar
END:VEVENT
BEGIN:VEVENT
DTSTART;TZID=Pacific/Auckland:20260506T090000
DTEND;TZID=Pacific/Auckland:20260507T170000
DTSTAMP:20260419T091904
CREATED:20260106T221947Z
LAST-MODIFIED:20260106T221947Z
UID:2176-1778058000-1778173200@gersonadvisoryservices.com
SUMMARY:Managing a Franchise System
DESCRIPTION:Two-day in-person workshop for franchisors and support staff that teaches the fundamentals of managing a franchise system. The programme covers the unique challenges of franchising and provides tools and strategies to help executives manage and grow their franchise networks.
URL:https://gersonadvisoryservices.com/event/managing-a-franchise-system/
LOCATION:Newmarket Training Venue\, Newmarket\, Auckland\, New Zealand
CATEGORIES:Workshop
END:VEVENT
END:VCALENDAR