BEGIN:VCALENDAR
VERSION:2.0
PRODID:-//Gerson Advisory Services - ECPv6.15.20//NONSGML v1.0//EN
CALSCALE:GREGORIAN
METHOD:PUBLISH
X-ORIGINAL-URL:https://gersonadvisoryservices.com
X-WR-CALDESC:Events for Gerson Advisory Services
REFRESH-INTERVAL;VALUE=DURATION:PT1H
X-Robots-Tag:noindex
X-PUBLISHED-TTL:PT1H
BEGIN:VTIMEZONE
TZID:America/Chicago
BEGIN:DAYLIGHT
TZOFFSETFROM:-0600
TZOFFSETTO:-0500
TZNAME:CDT
DTSTART:20250309T080000
END:DAYLIGHT
BEGIN:STANDARD
TZOFFSETFROM:-0500
TZOFFSETTO:-0600
TZNAME:CST
DTSTART:20251102T070000
END:STANDARD
BEGIN:DAYLIGHT
TZOFFSETFROM:-0600
TZOFFSETTO:-0500
TZNAME:CDT
DTSTART:20260308T080000
END:DAYLIGHT
BEGIN:STANDARD
TZOFFSETFROM:-0500
TZOFFSETTO:-0600
TZNAME:CST
DTSTART:20261101T070000
END:STANDARD
BEGIN:DAYLIGHT
TZOFFSETFROM:-0600
TZOFFSETTO:-0500
TZNAME:CDT
DTSTART:20270314T080000
END:DAYLIGHT
BEGIN:STANDARD
TZOFFSETFROM:-0500
TZOFFSETTO:-0600
TZNAME:CST
DTSTART:20271107T070000
END:STANDARD
END:VTIMEZONE
BEGIN:VTIMEZONE
TZID:America/Los_Angeles
BEGIN:DAYLIGHT
TZOFFSETFROM:-0800
TZOFFSETTO:-0700
TZNAME:PDT
DTSTART:20250309T100000
END:DAYLIGHT
BEGIN:STANDARD
TZOFFSETFROM:-0700
TZOFFSETTO:-0800
TZNAME:PST
DTSTART:20251102T090000
END:STANDARD
BEGIN:DAYLIGHT
TZOFFSETFROM:-0800
TZOFFSETTO:-0700
TZNAME:PDT
DTSTART:20260308T100000
END:DAYLIGHT
BEGIN:STANDARD
TZOFFSETFROM:-0700
TZOFFSETTO:-0800
TZNAME:PST
DTSTART:20261101T090000
END:STANDARD
BEGIN:DAYLIGHT
TZOFFSETFROM:-0800
TZOFFSETTO:-0700
TZNAME:PDT
DTSTART:20270314T100000
END:DAYLIGHT
BEGIN:STANDARD
TZOFFSETFROM:-0700
TZOFFSETTO:-0800
TZNAME:PST
DTSTART:20271107T090000
END:STANDARD
END:VTIMEZONE
BEGIN:VEVENT
DTSTART;TZID=America/Chicago:20260211T120000
DTEND;TZID=America/Chicago:20260211T130000
DTSTAMP:20260419T135009
CREATED:20251222T035945Z
LAST-MODIFIED:20251222T040328Z
UID:2069-1770811200-1770814800@gersonadvisoryservices.com
SUMMARY:Buying a Franchise as a Small Business Option
DESCRIPTION:This SCORE St. Louis webinar explains franchising as a small‑business option\, covering the wide range of industries and price points\, what franchising is and isn’t\, and how to match your skills with the right opportunity. Presenter Ben Terrill of FranNet shares insights and answers questions.
URL:https://gersonadvisoryservices.com/event/buying-a-franchise-as-a-small-business-option-2/
LOCATION:Virtual (Online Webinar)
CATEGORIES:Webinar
END:VEVENT
BEGIN:VEVENT
DTSTART;TZID=America/Los_Angeles:20260223T160000
DTEND;TZID=America/Los_Angeles:20260223T173000
DTSTAMP:20260419T135009
CREATED:20251222T035945Z
LAST-MODIFIED:20251222T040121Z
UID:2068-1771862400-1771867800@gersonadvisoryservices.com
SUMMARY:Become A Small Business Owner Through Franchising
DESCRIPTION:This SCORE Seattle online workshop helps aspiring entrepreneurs understand what franchising is and isn’t\, the laws and legal requirements in Washington State\, criteria for choosing a franchise\, due diligence methods and financing options\, with guidance from franchise coach Jeff Levy.
URL:https://gersonadvisoryservices.com/event/become-a-small-business-owner-through-franchising/
LOCATION:Virtual (Online Webinar)
CATEGORIES:Webinar
END:VEVENT
END:VCALENDAR