BEGIN:VCALENDAR
VERSION:2.0
PRODID:-//Gerson Advisory Services - ECPv6.15.20//NONSGML v1.0//EN
CALSCALE:GREGORIAN
METHOD:PUBLISH
X-WR-CALNAME:Gerson Advisory Services
X-ORIGINAL-URL:https://gersonadvisoryservices.com
X-WR-CALDESC:Events for Gerson Advisory Services
REFRESH-INTERVAL;VALUE=DURATION:PT1H
X-Robots-Tag:noindex
X-PUBLISHED-TTL:PT1H
BEGIN:VTIMEZONE
TZID:America/New_York
BEGIN:DAYLIGHT
TZOFFSETFROM:-0500
TZOFFSETTO:-0400
TZNAME:EDT
DTSTART:20240310T070000
END:DAYLIGHT
BEGIN:STANDARD
TZOFFSETFROM:-0400
TZOFFSETTO:-0500
TZNAME:EST
DTSTART:20241103T060000
END:STANDARD
BEGIN:DAYLIGHT
TZOFFSETFROM:-0500
TZOFFSETTO:-0400
TZNAME:EDT
DTSTART:20250309T070000
END:DAYLIGHT
BEGIN:STANDARD
TZOFFSETFROM:-0400
TZOFFSETTO:-0500
TZNAME:EST
DTSTART:20251102T060000
END:STANDARD
BEGIN:DAYLIGHT
TZOFFSETFROM:-0500
TZOFFSETTO:-0400
TZNAME:EDT
DTSTART:20260308T070000
END:DAYLIGHT
BEGIN:STANDARD
TZOFFSETFROM:-0400
TZOFFSETTO:-0500
TZNAME:EST
DTSTART:20261101T060000
END:STANDARD
END:VTIMEZONE
BEGIN:VTIMEZONE
TZID:America/Chicago
BEGIN:DAYLIGHT
TZOFFSETFROM:-0600
TZOFFSETTO:-0500
TZNAME:CDT
DTSTART:20240310T080000
END:DAYLIGHT
BEGIN:STANDARD
TZOFFSETFROM:-0500
TZOFFSETTO:-0600
TZNAME:CST
DTSTART:20241103T070000
END:STANDARD
BEGIN:DAYLIGHT
TZOFFSETFROM:-0600
TZOFFSETTO:-0500
TZNAME:CDT
DTSTART:20250309T080000
END:DAYLIGHT
BEGIN:STANDARD
TZOFFSETFROM:-0500
TZOFFSETTO:-0600
TZNAME:CST
DTSTART:20251102T070000
END:STANDARD
BEGIN:DAYLIGHT
TZOFFSETFROM:-0600
TZOFFSETTO:-0500
TZNAME:CDT
DTSTART:20260308T080000
END:DAYLIGHT
BEGIN:STANDARD
TZOFFSETFROM:-0500
TZOFFSETTO:-0600
TZNAME:CST
DTSTART:20261101T070000
END:STANDARD
END:VTIMEZONE
BEGIN:VEVENT
DTSTART;TZID=America/New_York:20251106T110000
DTEND;TZID=America/New_York:20251106T120000
DTSTAMP:20260423T164731
CREATED:20251104T003132Z
LAST-MODIFIED:20251104T003258Z
UID:1657-1762426800-1762430400@gersonadvisoryservices.com
SUMMARY:Webinar | From Stuck Operator to Strategic Owner: How Field Support Can Transform Franchisee Performance
DESCRIPTION:Franchisee growth starts with the right support. Join us on November 6 at 11:00 AM ET to explore how franchisors can design\, empower\, and evolve their field support function to turn daily operators into strategic\, growth-minded owners.\nHear from both sides of the franchise relationship — a high-performing franchisee and a franchisor leader building a next-level support function. Learn how a coaching\, not consulting\, approach can unlock franchisee potential and drive results. \nKey Takeaways:\n✅ Shift franchisees from daily operators to growth-minded business owners\n✅ Transform field teams from consulting to coaching to maximize impact\n✅ Gain actionable strategies and real-world examples you can implement
URL:https://gersonadvisoryservices.com/event/webinar-from-stuck-operator-to-strategic-owner-how-field-support-can-transform-franchisee-performance/
CATEGORIES:Webinar
END:VEVENT
BEGIN:VEVENT
DTSTART;TZID=America/Chicago:20251110T000000
DTEND;TZID=America/Chicago:20251112T000000
DTSTAMP:20260423T164731
CREATED:20250725T005048Z
LAST-MODIFIED:20251105T003722Z
UID:967-1762732800-1762905600@gersonadvisoryservices.com
SUMMARY:Emerging Franchisor Conference
DESCRIPTION:Conference for emerging franchise brands focused on growth\, finance\, and operations.
URL:https://gersonadvisoryservices.com/event/emerging-franchisor-conference/
LOCATION:Hilton Nashville Downtown\, 121 4th Avenue South\, Nashville\, Tennessee\, 37201\, United States
CATEGORIES:Conference
END:VEVENT
END:VCALENDAR