BEGIN:VCALENDAR
VERSION:2.0
PRODID:-//Gerson Advisory Services - ECPv6.15.20//NONSGML v1.0//EN
CALSCALE:GREGORIAN
METHOD:PUBLISH
X-ORIGINAL-URL:https://gersonadvisoryservices.com
X-WR-CALDESC:Events for Gerson Advisory Services
REFRESH-INTERVAL;VALUE=DURATION:PT1H
X-Robots-Tag:noindex
X-PUBLISHED-TTL:PT1H
BEGIN:VTIMEZONE
TZID:America/New_York
BEGIN:DAYLIGHT
TZOFFSETFROM:-0500
TZOFFSETTO:-0400
TZNAME:EDT
DTSTART:20240310T070000
END:DAYLIGHT
BEGIN:STANDARD
TZOFFSETFROM:-0400
TZOFFSETTO:-0500
TZNAME:EST
DTSTART:20241103T060000
END:STANDARD
BEGIN:DAYLIGHT
TZOFFSETFROM:-0500
TZOFFSETTO:-0400
TZNAME:EDT
DTSTART:20250309T070000
END:DAYLIGHT
BEGIN:STANDARD
TZOFFSETFROM:-0400
TZOFFSETTO:-0500
TZNAME:EST
DTSTART:20251102T060000
END:STANDARD
BEGIN:DAYLIGHT
TZOFFSETFROM:-0500
TZOFFSETTO:-0400
TZNAME:EDT
DTSTART:20260308T070000
END:DAYLIGHT
BEGIN:STANDARD
TZOFFSETFROM:-0400
TZOFFSETTO:-0500
TZNAME:EST
DTSTART:20261101T060000
END:STANDARD
END:VTIMEZONE
BEGIN:VEVENT
DTSTART;TZID=America/New_York:20251029T140000
DTEND;TZID=America/New_York:20251029T150000
DTSTAMP:20260419T183639
CREATED:20251009T210614Z
LAST-MODIFIED:20251010T133918Z
UID:1364-1761746400-1761750000@gersonadvisoryservices.com
SUMMARY:Expand Your Brand into Canada — Free Webinar
DESCRIPTION:Free CFA webinar on expanding a brand into Canada. Panel includes a franchise lawyer\, consultant\, and accounting expert.\nTime: 2:00–3:00 PM EDT on Wednesday\, October 29\, 2025. \nOrganizer: Canadian Franchise Association (CFA).\nRegistration link: WEBINAR
URL:https://gersonadvisoryservices.com/event/expand-your-brand-into-canada-free-webinar/
LOCATION:Online Webinar
END:VEVENT
END:VCALENDAR