BEGIN:VCALENDAR
VERSION:2.0
PRODID:-//Gerson Advisory Services - ECPv6.15.20//NONSGML v1.0//EN
CALSCALE:GREGORIAN
METHOD:PUBLISH
X-WR-CALNAME:Gerson Advisory Services
X-ORIGINAL-URL:https://gersonadvisoryservices.com
X-WR-CALDESC:Events for Gerson Advisory Services
REFRESH-INTERVAL;VALUE=DURATION:PT1H
X-Robots-Tag:noindex
X-PUBLISHED-TTL:PT1H
BEGIN:VTIMEZONE
TZID:America/New_York
BEGIN:DAYLIGHT
TZOFFSETFROM:-0500
TZOFFSETTO:-0400
TZNAME:EDT
DTSTART:20250309T070000
END:DAYLIGHT
BEGIN:STANDARD
TZOFFSETFROM:-0400
TZOFFSETTO:-0500
TZNAME:EST
DTSTART:20251102T060000
END:STANDARD
BEGIN:DAYLIGHT
TZOFFSETFROM:-0500
TZOFFSETTO:-0400
TZNAME:EDT
DTSTART:20260308T070000
END:DAYLIGHT
BEGIN:STANDARD
TZOFFSETFROM:-0400
TZOFFSETTO:-0500
TZNAME:EST
DTSTART:20261101T060000
END:STANDARD
BEGIN:DAYLIGHT
TZOFFSETFROM:-0500
TZOFFSETTO:-0400
TZNAME:EDT
DTSTART:20270314T070000
END:DAYLIGHT
BEGIN:STANDARD
TZOFFSETFROM:-0400
TZOFFSETTO:-0500
TZNAME:EST
DTSTART:20271107T060000
END:STANDARD
END:VTIMEZONE
BEGIN:VTIMEZONE
TZID:America/Denver
BEGIN:DAYLIGHT
TZOFFSETFROM:-0700
TZOFFSETTO:-0600
TZNAME:MDT
DTSTART:20250309T090000
END:DAYLIGHT
BEGIN:STANDARD
TZOFFSETFROM:-0600
TZOFFSETTO:-0700
TZNAME:MST
DTSTART:20251102T080000
END:STANDARD
BEGIN:DAYLIGHT
TZOFFSETFROM:-0700
TZOFFSETTO:-0600
TZNAME:MDT
DTSTART:20260308T090000
END:DAYLIGHT
BEGIN:STANDARD
TZOFFSETFROM:-0600
TZOFFSETTO:-0700
TZNAME:MST
DTSTART:20261101T080000
END:STANDARD
BEGIN:DAYLIGHT
TZOFFSETFROM:-0700
TZOFFSETTO:-0600
TZNAME:MDT
DTSTART:20270314T090000
END:DAYLIGHT
BEGIN:STANDARD
TZOFFSETFROM:-0600
TZOFFSETTO:-0700
TZNAME:MST
DTSTART:20271107T080000
END:STANDARD
END:VTIMEZONE
BEGIN:VEVENT
DTSTART;VALUE=DATE:20261101
DTEND;VALUE=DATE:20261109
DTSTAMP:20260423T194558
CREATED:20260106T222108Z
LAST-MODIFIED:20260106T223941Z
UID:2192-1793491200-1794182399@gersonadvisoryservices.com
SUMMARY:Dream Vacations National Conference 2026
DESCRIPTION:Dream Vacations’ 2026 National Conference invites travel advisors aboard Royal Caribbean’s Star of the Seas for a week of networking\, education and unforgettable experiences. Sailing from Port Canaveral\, Florida from November 1–8\, the conference blends educational sessions\, panel discussions and visits to ports such as Perfect Day at CocoCay\, St. Thomas and St. Maarten\, making it the first industry conference on an Icon Class ship.
URL:https://gersonadvisoryservices.com/event/dream-vacations-national-conference-2026/
LOCATION:Star of the Seas Cruise Ship\, Port Canaveral\, FL\, 32920\, USA
CATEGORIES:Conference
END:VEVENT
BEGIN:VEVENT
DTSTART;VALUE=DATE:20261102
DTEND;VALUE=DATE:20261104
DTSTAMP:20260423T194558
CREATED:20260106T222108Z
LAST-MODIFIED:20260106T222108Z
UID:2191-1793577600-1793750399@gersonadvisoryservices.com
SUMMARY:Franchise Marketing Live 2026
DESCRIPTION:Franchise Marketing Live is a two-day conference for franchise marketing professionals. It brings platform insiders and top franchise marketers together for strategies\, tools\, and conversations about the trends and technologies shaping 2027. The event features sessions\, panels\, power plays\, roundtables and networking.
URL:https://gersonadvisoryservices.com/event/franchise-marketing-live-2026/
LOCATION:TBA (Denver)\, Denver\, CO\, USA
CATEGORIES:Conference
END:VEVENT
END:VCALENDAR