BEGIN:VCALENDAR
VERSION:2.0
PRODID:-//Gerson Advisory Services - ECPv6.15.20//NONSGML v1.0//EN
CALSCALE:GREGORIAN
METHOD:PUBLISH
X-ORIGINAL-URL:https://gersonadvisoryservices.com
X-WR-CALDESC:Events for Gerson Advisory Services
REFRESH-INTERVAL;VALUE=DURATION:PT1H
X-Robots-Tag:noindex
X-PUBLISHED-TTL:PT1H
BEGIN:VTIMEZONE
TZID:Pacific/Auckland
BEGIN:STANDARD
TZOFFSETFROM:+1300
TZOFFSETTO:+1200
TZNAME:NZST
DTSTART:20250405T140000
END:STANDARD
BEGIN:DAYLIGHT
TZOFFSETFROM:+1200
TZOFFSETTO:+1300
TZNAME:NZDT
DTSTART:20250927T140000
END:DAYLIGHT
BEGIN:STANDARD
TZOFFSETFROM:+1300
TZOFFSETTO:+1200
TZNAME:NZST
DTSTART:20260404T140000
END:STANDARD
BEGIN:DAYLIGHT
TZOFFSETFROM:+1200
TZOFFSETTO:+1300
TZNAME:NZDT
DTSTART:20260926T140000
END:DAYLIGHT
BEGIN:STANDARD
TZOFFSETFROM:+1300
TZOFFSETTO:+1200
TZNAME:NZST
DTSTART:20270403T140000
END:STANDARD
BEGIN:DAYLIGHT
TZOFFSETFROM:+1200
TZOFFSETTO:+1300
TZNAME:NZDT
DTSTART:20270925T140000
END:DAYLIGHT
END:VTIMEZONE
BEGIN:VEVENT
DTSTART;TZID=Pacific/Auckland:20260429T130000
DTEND;TZID=Pacific/Auckland:20260430T170000
DTSTAMP:20260419T085859
CREATED:20260106T221947Z
LAST-MODIFIED:20260106T221947Z
UID:2175-1777467600-1777568400@gersonadvisoryservices.com
SUMMARY:Franchisee Business Planning
DESCRIPTION:This online training helps field managers upskill in effective business and action planning with franchisees. It emphasizes that business planning is central to the franchisee–franchisor relationship\, providing background and skills to engage and guide franchisees toward sustained performance.
URL:https://gersonadvisoryservices.com/event/franchisee-business-planning/
LOCATION:Virtual (Online Webinar)
CATEGORIES:Training
END:VEVENT
END:VCALENDAR