BEGIN:VCALENDAR
VERSION:2.0
PRODID:-//Gerson Advisory Services - ECPv6.15.20//NONSGML v1.0//EN
CALSCALE:GREGORIAN
METHOD:PUBLISH
X-WR-CALNAME:Gerson Advisory Services
X-ORIGINAL-URL:https://gersonadvisoryservices.com
X-WR-CALDESC:Events for Gerson Advisory Services
REFRESH-INTERVAL;VALUE=DURATION:PT1H
X-Robots-Tag:noindex
X-PUBLISHED-TTL:PT1H
BEGIN:VTIMEZONE
TZID:America/New_York
BEGIN:DAYLIGHT
TZOFFSETFROM:-0500
TZOFFSETTO:-0400
TZNAME:EDT
DTSTART:20250309T070000
END:DAYLIGHT
BEGIN:STANDARD
TZOFFSETFROM:-0400
TZOFFSETTO:-0500
TZNAME:EST
DTSTART:20251102T060000
END:STANDARD
BEGIN:DAYLIGHT
TZOFFSETFROM:-0500
TZOFFSETTO:-0400
TZNAME:EDT
DTSTART:20260308T070000
END:DAYLIGHT
BEGIN:STANDARD
TZOFFSETFROM:-0400
TZOFFSETTO:-0500
TZNAME:EST
DTSTART:20261101T060000
END:STANDARD
BEGIN:DAYLIGHT
TZOFFSETFROM:-0500
TZOFFSETTO:-0400
TZNAME:EDT
DTSTART:20270314T070000
END:DAYLIGHT
BEGIN:STANDARD
TZOFFSETFROM:-0400
TZOFFSETTO:-0500
TZNAME:EST
DTSTART:20271107T060000
END:STANDARD
END:VTIMEZONE
BEGIN:VEVENT
DTSTART;VALUE=DATE:20260123
DTEND;VALUE=DATE:20260127
DTSTAMP:20260423T142640
CREATED:20251210T230422Z
LAST-MODIFIED:20251210T230422Z
UID:2031-1769126400-1769471999@gersonadvisoryservices.com
SUMMARY:FCC Winter 2026 Conference
DESCRIPTION:Held aboard the MSC Seaside cruise ship\, the FCC Winter 2026 Conference offers three jam‑packed days of learning and networking with leading franchising minds. Attendees will network\, mingle and be inspired while engaging in intensive discovery sessions with franchise consultants and experts from diverse fields.
URL:https://gersonadvisoryservices.com/event/fcc-winter-2026-conference/
LOCATION:MSC Seaside\, 1015 N America Way\, Miami\, FL\, 33132\, USA
CATEGORIES:Conference
END:VEVENT
END:VCALENDAR