BEGIN:VCALENDAR
VERSION:2.0
PRODID:-//Gerson Advisory Services - ECPv6.15.20//NONSGML v1.0//EN
CALSCALE:GREGORIAN
METHOD:PUBLISH
X-ORIGINAL-URL:https://gersonadvisoryservices.com
X-WR-CALDESC:Events for Gerson Advisory Services
REFRESH-INTERVAL;VALUE=DURATION:PT1H
X-Robots-Tag:noindex
X-PUBLISHED-TTL:PT1H
BEGIN:VTIMEZONE
TZID:America/Chicago
BEGIN:DAYLIGHT
TZOFFSETFROM:-0600
TZOFFSETTO:-0500
TZNAME:CDT
DTSTART:20250309T080000
END:DAYLIGHT
BEGIN:STANDARD
TZOFFSETFROM:-0500
TZOFFSETTO:-0600
TZNAME:CST
DTSTART:20251102T070000
END:STANDARD
BEGIN:DAYLIGHT
TZOFFSETFROM:-0600
TZOFFSETTO:-0500
TZNAME:CDT
DTSTART:20260308T080000
END:DAYLIGHT
BEGIN:STANDARD
TZOFFSETFROM:-0500
TZOFFSETTO:-0600
TZNAME:CST
DTSTART:20261101T070000
END:STANDARD
BEGIN:DAYLIGHT
TZOFFSETFROM:-0600
TZOFFSETTO:-0500
TZNAME:CDT
DTSTART:20270314T080000
END:DAYLIGHT
BEGIN:STANDARD
TZOFFSETFROM:-0500
TZOFFSETTO:-0600
TZNAME:CST
DTSTART:20271107T070000
END:STANDARD
END:VTIMEZONE
BEGIN:VEVENT
DTSTART;TZID=America/Chicago:20260426T080000
DTEND;TZID=America/Chicago:20260426T160000
DTSTAMP:20260419T085228
CREATED:20260219T003856Z
LAST-MODIFIED:20260219T003856Z
UID:2481-1777190400-1777219200@gersonadvisoryservices.com
SUMMARY:Business Owners and Franchise Summit 2026
DESCRIPTION:Half-day gathering for business owners\, entrepreneurs\, investors\, and franchise leaders to explore business growth and franchise expansion through panel discussions\, presentations and networking. Topics include starting\, growing\, expanding businesses and franchise development\, with sessions on legal services\, hospitality\, financial accessibility\, education\, and quick-service restaurants.
URL:https://gersonadvisoryservices.com/event/business-owners-and-franchise-summit-2026/
LOCATION:YUM! Brands Center of Restaurant Excellence\, 7100 Corporate Drive\, Plano\, TX\, 75024s\, USA
CATEGORIES:Conference
END:VEVENT
END:VCALENDAR