BEGIN:VCALENDAR
VERSION:2.0
PRODID:-//Gerson Advisory Services - ECPv6.15.20//NONSGML v1.0//EN
CALSCALE:GREGORIAN
METHOD:PUBLISH
X-WR-CALNAME:Gerson Advisory Services
X-ORIGINAL-URL:https://gersonadvisoryservices.com
X-WR-CALDESC:Events for Gerson Advisory Services
REFRESH-INTERVAL;VALUE=DURATION:PT1H
X-Robots-Tag:noindex
X-PUBLISHED-TTL:PT1H
BEGIN:VTIMEZONE
TZID:America/New_York
BEGIN:DAYLIGHT
TZOFFSETFROM:-0500
TZOFFSETTO:-0400
TZNAME:EDT
DTSTART:20250309T070000
END:DAYLIGHT
BEGIN:STANDARD
TZOFFSETFROM:-0400
TZOFFSETTO:-0500
TZNAME:EST
DTSTART:20251102T060000
END:STANDARD
BEGIN:DAYLIGHT
TZOFFSETFROM:-0500
TZOFFSETTO:-0400
TZNAME:EDT
DTSTART:20260308T070000
END:DAYLIGHT
BEGIN:STANDARD
TZOFFSETFROM:-0400
TZOFFSETTO:-0500
TZNAME:EST
DTSTART:20261101T060000
END:STANDARD
BEGIN:DAYLIGHT
TZOFFSETFROM:-0500
TZOFFSETTO:-0400
TZNAME:EDT
DTSTART:20270314T070000
END:DAYLIGHT
BEGIN:STANDARD
TZOFFSETFROM:-0400
TZOFFSETTO:-0500
TZNAME:EST
DTSTART:20271107T060000
END:STANDARD
END:VTIMEZONE
BEGIN:VTIMEZONE
TZID:Pacific/Auckland
BEGIN:STANDARD
TZOFFSETFROM:+1300
TZOFFSETTO:+1200
TZNAME:NZST
DTSTART:20250405T140000
END:STANDARD
BEGIN:DAYLIGHT
TZOFFSETFROM:+1200
TZOFFSETTO:+1300
TZNAME:NZDT
DTSTART:20250927T140000
END:DAYLIGHT
BEGIN:STANDARD
TZOFFSETFROM:+1300
TZOFFSETTO:+1200
TZNAME:NZST
DTSTART:20260404T140000
END:STANDARD
BEGIN:DAYLIGHT
TZOFFSETFROM:+1200
TZOFFSETTO:+1300
TZNAME:NZDT
DTSTART:20260926T140000
END:DAYLIGHT
BEGIN:STANDARD
TZOFFSETFROM:+1300
TZOFFSETTO:+1200
TZNAME:NZST
DTSTART:20270403T140000
END:STANDARD
BEGIN:DAYLIGHT
TZOFFSETFROM:+1200
TZOFFSETTO:+1300
TZNAME:NZDT
DTSTART:20270925T140000
END:DAYLIGHT
END:VTIMEZONE
BEGIN:VTIMEZONE
TZID:Asia/Bangkok
BEGIN:STANDARD
TZOFFSETFROM:+0700
TZOFFSETTO:+0700
TZNAME:+07
DTSTART:20250101T000000
END:STANDARD
END:VTIMEZONE
BEGIN:VTIMEZONE
TZID:Europe/Rome
BEGIN:DAYLIGHT
TZOFFSETFROM:+0100
TZOFFSETTO:+0200
TZNAME:CEST
DTSTART:20250330T010000
END:DAYLIGHT
BEGIN:STANDARD
TZOFFSETFROM:+0200
TZOFFSETTO:+0100
TZNAME:CET
DTSTART:20251026T010000
END:STANDARD
BEGIN:DAYLIGHT
TZOFFSETFROM:+0100
TZOFFSETTO:+0200
TZNAME:CEST
DTSTART:20260329T010000
END:DAYLIGHT
BEGIN:STANDARD
TZOFFSETFROM:+0200
TZOFFSETTO:+0100
TZNAME:CET
DTSTART:20261025T010000
END:STANDARD
BEGIN:DAYLIGHT
TZOFFSETFROM:+0100
TZOFFSETTO:+0200
TZNAME:CEST
DTSTART:20270328T010000
END:DAYLIGHT
BEGIN:STANDARD
TZOFFSETFROM:+0200
TZOFFSETTO:+0100
TZNAME:CET
DTSTART:20271031T010000
END:STANDARD
END:VTIMEZONE
BEGIN:VTIMEZONE
TZID:America/Sao_Paulo
BEGIN:STANDARD
TZOFFSETFROM:-0300
TZOFFSETTO:-0300
TZNAME:-03
DTSTART:20250101T000000
END:STANDARD
END:VTIMEZONE
BEGIN:VEVENT
DTSTART;VALUE=DATE:20260504
DTEND;VALUE=DATE:20260615
DTSTAMP:20260419T145205
CREATED:20260409T031029Z
LAST-MODIFIED:20260409T031947Z
UID:2640-1777852800-1781481599@gersonadvisoryservices.com
SUMMARY:IFA Foundations of Franchising - May 2026
DESCRIPTION:IFA’s flagship online educational program covering the fundamentals of franchising. Earns 52 Core CFE Credits. Runs May 4 – June 14\, 2026.
URL:https://gersonadvisoryservices.com/event/ifa-foundations-of-franchising-may-2026/
LOCATION:Virtual (Online Webinar)
CATEGORIES:Training
END:VEVENT
BEGIN:VEVENT
DTSTART;TZID=Pacific/Auckland:20260506T090000
DTEND;TZID=Pacific/Auckland:20260507T170000
DTSTAMP:20260419T145205
CREATED:20260106T221947Z
LAST-MODIFIED:20260106T221947Z
UID:2176-1778058000-1778173200@gersonadvisoryservices.com
SUMMARY:Managing a Franchise System
DESCRIPTION:Two-day in-person workshop for franchisors and support staff that teaches the fundamentals of managing a franchise system. The programme covers the unique challenges of franchising and provides tools and strategies to help executives manage and grow their franchise networks.
URL:https://gersonadvisoryservices.com/event/managing-a-franchise-system/
LOCATION:Newmarket Training Venue\, Newmarket\, Auckland\, New Zealand
CATEGORIES:Workshop
END:VEVENT
BEGIN:VEVENT
DTSTART;TZID=America/New_York:20260514T120000
DTEND;TZID=America/New_York:20260514T140000
DTSTAMP:20260419T145205
CREATED:20260415T201836Z
LAST-MODIFIED:20260415T201836Z
UID:2668-1778760000-1778767200@gersonadvisoryservices.com
SUMMARY:Webinar | Modernizing Your Sales Funnel: AI\, Tools & Tactics That Convert
DESCRIPTION:A high-impact virtual session on modernizing your franchise sales funnel using AI and automation. Panelists from Franzy\, Cohesive AI\, Markarie®\, and Lumin.ai cover conversion tools\, follow-up tactics\, and streamlining the process from first touch to closed deal. Hosted by NEFA Board Members Kim Woods and Jamie Lavigne.
URL:https://gersonadvisoryservices.com/event/webinar-modernizing-your-sales-funnel-ai-tools-tactics-that-convert/
CATEGORIES:Webinar
END:VEVENT
BEGIN:VEVENT
DTSTART;TZID=America/New_York:20260514T140000
DTEND;TZID=America/New_York:20260514T150000
DTSTAMP:20260419T145205
CREATED:20260415T201836Z
LAST-MODIFIED:20260415T201836Z
UID:2671-1778767200-1778770800@gersonadvisoryservices.com
SUMMARY:Beyond the Fine Print: Transforming Your Franchise Agreement into a Strategic Asset
DESCRIPTION:An executive-level webinar on the business side of franchise agreement management and enforcement. Michael Seid and Keith Gerson cover the Five Tenets of System Success\, transparency in recruitment\, managing material system changes collaboratively\, enforcement with wisdom\, and using renewals and transfers as brand modernization opportunities. Complimentary.
URL:https://gersonadvisoryservices.com/event/beyond-the-fine-print-transforming-your-franchise-agreement-into-a-strategic-asset/
CATEGORIES:Webinar
END:VEVENT
BEGIN:VEVENT
DTSTART;VALUE=DATE:20260516
DTEND;VALUE=DATE:20260518
DTSTAMP:20260419T145205
CREATED:20251020T005645Z
LAST-MODIFIED:20251020T005645Z
UID:1456-1778889600-1779062399@gersonadvisoryservices.com
SUMMARY:D.C./Virginia Franchise Show
DESCRIPTION:Franchise show offering franchise opportunities and educational sessions in the D.C./Virginia region.
URL:https://gersonadvisoryservices.com/event/d-c-virginia-franchise-show/
LOCATION:Dulles Expo Center – North Hall\, 4320 Chantilly Shopping Center\, Chantilly\, VA\, 20151\, USA
END:VEVENT
BEGIN:VEVENT
DTSTART;VALUE=DATE:20260516
DTEND;VALUE=DATE:20260518
DTSTAMP:20260419T145205
CREATED:20251107T020645Z
LAST-MODIFIED:20251107T020645Z
UID:1715-1778889600-1779062399@gersonadvisoryservices.com
SUMMARY:Atlanta Franchise Trade Show & Money Expo
DESCRIPTION:Experience free seminars and expert guidance on franchising while networking with top brands at this expansive trade show in Atlanta.
URL:https://gersonadvisoryservices.com/event/atlanta-franchise-trade-show-money-expo/
LOCATION:Cobb Galleria Centre\, Two Galleria Parkway\, Atlanta\, GA\, 30339\, USA
CATEGORIES:Trade Show
END:VEVENT
BEGIN:VEVENT
DTSTART;VALUE=DATE:20260516
DTEND;VALUE=DATE:20260518
DTSTAMP:20260419T145205
CREATED:20251209T041929Z
LAST-MODIFIED:20251209T042403Z
UID:2002-1778889600-1779062399@gersonadvisoryservices.com
SUMMARY:Washington/Baltimore Franchise Show 2026
DESCRIPTION:The Washington/Baltimore Franchise Show (also known as the D.C./Virginia Franchise Show) invites prospective entrepreneurs to explore franchise opportunities\, meet franchisors and attend educational seminars. According to the event information page\, it runs May 16–17 2026 at the Baltimore Convention Center\, with show hours 11 a.m.–5 p.m. Saturday and 11 a.m.–4 p.m. Sunday.
URL:https://gersonadvisoryservices.com/event/washington-baltimore-franchise-show-2026/
LOCATION:Baltimore Convention Center\, 1 W Pratt St\, Baltimore\, MD\, 21201\, USA
END:VEVENT
BEGIN:VEVENT
DTSTART;VALUE=DATE:20260517
DTEND;VALUE=DATE:20260520
DTSTAMP:20260419T145205
CREATED:20251022T030037Z
LAST-MODIFIED:20251022T030037Z
UID:1488-1778976000-1779235199@gersonadvisoryservices.com
SUMMARY:IFA Legal Symposium 2026
DESCRIPTION:The IFA Legal Symposium provides franchise attorneys and legal professionals with updates on legislative\, regulatory and business issues within franchising.
URL:https://gersonadvisoryservices.com/event/ifa-legal-symposium-2026/
LOCATION:TBD Washington DC\, Washington\, DC\, USA
END:VEVENT
BEGIN:VEVENT
DTSTART;VALUE=DATE:20260518
DTEND;VALUE=DATE:20260521
DTSTAMP:20260419T145205
CREATED:20260122T232928Z
LAST-MODIFIED:20260122T233050Z
UID:2378-1779062400-1779321599@gersonadvisoryservices.com
SUMMARY:Hello Mastermind Spring Retreat 2026
DESCRIPTION:Three-day in-person mastermind retreat for franchise marketing and development leaders focused on leadership\, collaboration\, and strategic growth.
URL:https://gersonadvisoryservices.com/event/hello-mastermind-spring-retreat-2026/
LOCATION:TBA Portland\, Portland\, ME\, USA
CATEGORIES:Retreat
END:VEVENT
BEGIN:VEVENT
DTSTART;VALUE=DATE:20260519
DTEND;VALUE=DATE:20260521
DTSTAMP:20260419T145205
CREATED:20251024T031243Z
LAST-MODIFIED:20251024T031243Z
UID:1516-1779148800-1779321599@gersonadvisoryservices.com
SUMMARY:IBA/IFA Joint Conference 2026
DESCRIPTION:A joint conference hosted by the International Bar Association and International Franchise Association.
URL:https://gersonadvisoryservices.com/event/iba-ifa-joint-conference-2026/
LOCATION:TBD Washington DC\, Washington\, DC\, USA
CATEGORIES:Conference
END:VEVENT
BEGIN:VEVENT
DTSTART;TZID=America/New_York:20260519T140000
DTEND;TZID=America/New_York:20260519T150000
DTSTAMP:20260419T145205
CREATED:20260409T031029Z
LAST-MODIFIED:20260409T031029Z
UID:2641-1779199200-1779202800@gersonadvisoryservices.com
SUMMARY:Webinar | Fine-Tuning Your Franchisee Onboarding Process
DESCRIPTION:IFA webinar covering best practices for franchisee onboarding. Earns 1 CFE IFA LIVE Credit.
URL:https://gersonadvisoryservices.com/event/webinar-fine-tuning-your-franchisee-onboarding-process/
CATEGORIES:Webinar
END:VEVENT
BEGIN:VEVENT
DTSTART;TZID=America/New_York:20260521T113000
DTEND;TZID=America/New_York:20260521T124500
DTSTAMP:20260419T145205
CREATED:20260326T004546Z
LAST-MODIFIED:20260326T004546Z
UID:2573-1779363000-1779367500@gersonadvisoryservices.com
SUMMARY:Virtual Networking | Franchise Community Roundtable
DESCRIPTION:A virtual networking forum designed for franchise professionals to exchange practical insights\, ask operational questions\, and build trusted relationships. Led by Chair Emily Estes and Co-Chair Evan Hackel.
URL:https://gersonadvisoryservices.com/event/virtual-networking-franchise-community-roundtable/
LOCATION:Online Webinar
CATEGORIES:Networking
END:VEVENT
BEGIN:VEVENT
DTSTART;TZID=America/New_York:20260521T160000
DTEND;TZID=America/New_York:20260521T173000
DTSTAMP:20260419T145205
CREATED:20260401T021320Z
LAST-MODIFIED:20260401T021320Z
UID:2616-1779379200-1779384600@gersonadvisoryservices.com
SUMMARY:Spring Series: Financing the Future: Funding Growth Without Losing Control
DESCRIPTION:Growth takes capital but does not have to mean giving up control. This session explores creative franchisee and franchisor funding strategies including incentive programs and partnership models that accelerate expansion while protecting ownership structure.
URL:https://gersonadvisoryservices.com/event/spring-series-financing-the-future-funding-growth-without-losing-control/
LOCATION:Online Webinar
END:VEVENT
BEGIN:VEVENT
DTSTART;VALUE=DATE:20260527
DTEND;VALUE=DATE:20260528
DTSTAMP:20260419T145205
CREATED:20260326T004702Z
LAST-MODIFIED:20260326T004702Z
UID:2589-1779840000-1779926399@gersonadvisoryservices.com
SUMMARY:The 4 D's of Effective Time Management for District Managers and Above Store Leaders
DESCRIPTION:Time is the one thing in business that you can never get back. This session teaches the four classifications of tasks to improve efficiency and maximize results for district managers and above-store leaders.
URL:https://gersonadvisoryservices.com/event/the-4-ds-of-effective-time-management-for-district-managers-and-above-store-leaders/
LOCATION:Online Webinar
CATEGORIES:Training
END:VEVENT
BEGIN:VEVENT
DTSTART;VALUE=DATE:20260528
DTEND;VALUE=DATE:20260529
DTSTAMP:20260419T145205
CREATED:20260327T204616Z
LAST-MODIFIED:20260327T204616Z
UID:2599-1779926400-1780012799@gersonadvisoryservices.com
SUMMARY:World Franchise Congress\, Multi-Unit Franchise Expo & Franchise Honors 2026
DESCRIPTION:The World Franchise Congress\, Multi-Unit Franchise Expo & Franchise Honors 2026 is a premier international franchising platform held in London during India Week. Organised by Franchise Digital Services (UK) in association with Franchise India and Entrepreneur APAC\, the event brings together multi-unit franchise investors\, experienced operators expanding their portfolios\, and global franchisors focused on cross-border growth. The event comprises three components: the World Franchise Congress\, featuring strategic discussions on international growth\, franchising models\, and cross-border partnerships; the Multi-Unit Franchise Expo\, a targeted platform for brands to connect with serious investors and expansion partners; and Franchise Honors\, a prestigious awards night celebrating excellence in franchising and offering premium networking with top-tier industry stakeholders.
URL:https://gersonadvisoryservices.com/event/world-franchise-congress-multi-unit-franchise-expo-franchise-honors-2026/
LOCATION:Royal Lancaster London\, Lancaster Terrace\, London\, United Kingdom
CATEGORIES:Expo
END:VEVENT
BEGIN:VEVENT
DTSTART;TZID=America/New_York:20260528T080000
DTEND;TZID=America/New_York:20260528T180000
DTSTAMP:20260419T145205
CREATED:20260213T022004Z
LAST-MODIFIED:20260213T023542Z
UID:2447-1779955200-1779991200@gersonadvisoryservices.com
SUMMARY:Transworld Regional Meeting – Minneapolis 2026
DESCRIPTION:United Franchise Group’s 2026 Regional Meetings bring Transworld professionals together to collaborate\, share best practices and connect. The Central & International Regional Meeting in Minneapolis features dynamic speakers\, interactive sessions and networking opportunities\, covering topics such as selling steps\, LOI vs BAPA\, transaction management\, local marketing plans\, activity KPIs and case studies.
URL:https://gersonadvisoryservices.com/event/transworld-regional-meeting-minneapolis-2026/
LOCATION:Hyatt Regency Minneapolis\, 1300 Nicollet Mall\, Minneapolis\, Minnesota\, 55403\, United States
CATEGORIES:Meeting
END:VEVENT
BEGIN:VEVENT
DTSTART;VALUE=DATE:20260529
DTEND;VALUE=DATE:20260531
DTSTAMP:20260419T145205
CREATED:20251022T030037Z
LAST-MODIFIED:20251022T030037Z
UID:1485-1780012800-1780185599@gersonadvisoryservices.com
SUMMARY:International Franchise Expo 2026
DESCRIPTION:International Franchise Expo brings together leading franchise brands and prospective franchisees across industries.
URL:https://gersonadvisoryservices.com/event/international-franchise-expo-2026/
LOCATION:Jacob K. Javits Convention Center\, 429 11th Ave\, New York\, NY\, 10001-1188\, USA
ORGANIZER;CN="MFV Expositions":MAILTO:murphy.connolly@comexposium.com
END:VEVENT
BEGIN:VEVENT
DTSTART;TZID=America/New_York:20260530T110000
DTEND;TZID=America/New_York:20260531T160000
DTSTAMP:20260419T145205
CREATED:20260401T021320Z
LAST-MODIFIED:20260401T021320Z
UID:2618-1780138800-1780243200@gersonadvisoryservices.com
SUMMARY:Columbus Franchise Trade Show & Money Expo
DESCRIPTION:
URL:https://gersonadvisoryservices.com/event/columbus-franchise-trade-show-money-expo-2/
LOCATION:Columbus Expo Center\, Columbus\, Ohio\, USA
END:VEVENT
BEGIN:VEVENT
DTSTART;VALUE=DATE:20260601
DTEND;VALUE=DATE:20260604
DTSTAMP:20260419T145205
CREATED:20251209T041929Z
LAST-MODIFIED:20260122T232830Z
UID:2003-1780272000-1780531199@gersonadvisoryservices.com
SUMMARY:FranCamp Summer Camp NJ 2026
DESCRIPTION:FranCamp Summer Camp: NJ is a three-day\, hands-on bootcamp that focuses on selling your next franchise and sharpening your sales strategy\, storytelling and candidate journey. The FranCamp site promotes this new camp and lists the dates June 1–3 2026 in New Jersey.
URL:https://gersonadvisoryservices.com/event/francamp-summer-camp-nj-2026/
LOCATION:Molly Pitcher Inn\, 88 Riverside Ave\, Red Bank\, NJ\, 07701
END:VEVENT
BEGIN:VEVENT
DTSTART;VALUE=DATE:20260601
DTEND;VALUE=DATE:20260713
DTSTAMP:20260419T145205
CREATED:20260409T031029Z
LAST-MODIFIED:20260409T031029Z
UID:2642-1780272000-1783900799@gersonadvisoryservices.com
SUMMARY:IFA Foundations of Franchising – June 2026
DESCRIPTION:IFA’s flagship online educational program covering the fundamentals of franchising. Earns 52 Core CFE Credits. Runs June 1 – July 12\, 2026.
URL:https://gersonadvisoryservices.com/event/ifa-foundations-of-franchising-june-2026/
CATEGORIES:CFE,Education,foundations,franchising,IFA,online
END:VEVENT
BEGIN:VEVENT
DTSTART;VALUE=DATE:20260602
DTEND;VALUE=DATE:20260605
DTSTAMP:20260419T145205
CREATED:20251022T030038Z
LAST-MODIFIED:20251022T030038Z
UID:1490-1780358400-1780617599@gersonadvisoryservices.com
SUMMARY:Franchise Customer Experience Conference (FCXC) 2026
DESCRIPTION:The Franchise Customer Experience Conference (FCXC) brings franchise leaders together to explore innovation in customer and franchisee experience; future event dates for 2026 are June 2–4\, 2026 in Atlanta\, GA.
URL:https://gersonadvisoryservices.com/event/franchise-customer-experience-conference-fcxc-2026/
LOCATION:TBD Atlanta GA\, Atlanta\, GA\, USA
END:VEVENT
BEGIN:VEVENT
DTSTART;VALUE=DATE:20260602
DTEND;VALUE=DATE:20260605
DTSTAMP:20260419T145205
CREATED:20260313T225148Z
LAST-MODIFIED:20260313T225245Z
UID:2542-1780358400-1780617599@gersonadvisoryservices.com
SUMMARY:Franchise Growth & Marketing Conference 2026
DESCRIPTION:The Franchise Growth & Marketing Conference (FGMC) brings together franchisor CMOs\, brand leaders\, and marketing teams to turn strategy into profitable unit-level growth. The conference focuses on rising customer acquisition costs\, AI-driven marketing expectations\, MarTech adoption\, franchisee ROI demands\, and translating corporate marketing strategy into measurable location-level performance. Sessions include growth pathway workshops\, learning labs on AI and marketing technology\, case studies from franchisors and suppliers\, and collaborative planning sessions designed to help franchise systems drive demand\, optimize marketing spend\, and create sustainable unit-level profitability.
URL:https://gersonadvisoryservices.com/event/franchise-growth-marketing-conference-2026/
LOCATION:InterContinental Buckhead\, 3315 Peachtree Road N.E.\, Atlanta\, Georgia\, 30326\, USA
CATEGORIES:Conference
END:VEVENT
BEGIN:VEVENT
DTSTART;VALUE=DATE:20260604
DTEND;VALUE=DATE:20260608
DTSTAMP:20260419T145205
CREATED:20260113T002710Z
LAST-MODIFIED:20260113T004200Z
UID:2260-1780531200-1780876799@gersonadvisoryservices.com
SUMMARY:Thailand Franchise & Business Opportunities (TFBO) 2026
DESCRIPTION:TFBO 2026 is the 22nd edition of the Thailand Franchise & Business Opportunities exhibition. Recognized as Thailand’s No. 1 international franchise expo\, the four‑day B2B event connects investors\, master franchisees and brand owners across Asia\, offering unmatched opportunities to explore\, invest and expand networks in the region’s rapidly growing franchise market.
URL:https://gersonadvisoryservices.com/event/thailand-franchise-business-opportunities-tfbo-2026/
LOCATION:BITEC Bangkok (EH 102)\, 88 Bangna-Trad Road\, Khwaeng Bang Na\, Khet Bang Na\, Bangkok\, Bangkok\, 10260\, Thailand
CATEGORIES:Expo
END:VEVENT
BEGIN:VEVENT
DTSTART;VALUE=DATE:20260606
DTEND;VALUE=DATE:20260608
DTSTAMP:20260419T145205
CREATED:20251107T020645Z
LAST-MODIFIED:20251120T030139Z
UID:1716-1780704000-1780876799@gersonadvisoryservices.com
SUMMARY:Columbus Franchise Trade Show & Money Expo
DESCRIPTION:Be part of the action at the Columbus Franchise Trade Show & Money Expo at the Columbus Expo Center on June 6-7 2026. This event brings together franchise brands\, investment opportunities\, educational seminars\, and one-on-one consultations for aspiring entrepreneurs and growth-minded franchisees. Attendees gain access to expert coaching\, franchise financing insight\, and hundreds of live brand-booth conversations — all in one venue.
URL:https://gersonadvisoryservices.com/event/columbus-franchise-trade-show-money-expo/
LOCATION:Columbus Expo Center\, Columbus\, Ohio\, USA
CATEGORIES:Trade Show
END:VEVENT
BEGIN:VEVENT
DTSTART;VALUE=DATE:20260611
DTEND;VALUE=DATE:20260614
DTSTAMP:20260419T145205
CREATED:20251031T020444Z
LAST-MODIFIED:20251031T020444Z
UID:1604-1781136000-1781395199@gersonadvisoryservices.com
SUMMARY:ISoF 39th Annual Conference 2026
DESCRIPTION:The International Society of Franchising (ISoF) will host its 39th Annual Conference June 11-13\, 2026 at John Cabot University in Rome\, Italy\, bringing together researchers and practitioners to discuss franchise issues.
URL:https://gersonadvisoryservices.com/event/isof-39th-annual-conference-2026/
LOCATION:John Cabot University\, Via della Lungara\, 233\, Rome\, 00165\, Italy
CATEGORIES:Conference
END:VEVENT
BEGIN:VEVENT
DTSTART;VALUE=DATE:20260613
DTEND;VALUE=DATE:20260615
DTSTAMP:20260419T145205
CREATED:20251020T005358Z
LAST-MODIFIED:20251020T005358Z
UID:1462-1781308800-1781481599@gersonadvisoryservices.com
SUMMARY:Portland Franchise Show
DESCRIPTION:Franchise show presenting franchise opportunities and educational seminars in Portland.
URL:https://gersonadvisoryservices.com/event/portland-franchise-show/
LOCATION:Portland Expo Center – Hall B\, 2060 N Marine Dr\, Portland\, OR\, 97217\, USA
END:VEVENT
BEGIN:VEVENT
DTSTART;TZID=America/New_York:20260618T113000
DTEND;TZID=America/New_York:20260618T124500
DTSTAMP:20260419T145205
CREATED:20260326T004546Z
LAST-MODIFIED:20260326T004546Z
UID:2574-1781782200-1781786700@gersonadvisoryservices.com
SUMMARY:Virtual Networking | Franchise Community Roundtable
DESCRIPTION:A working virtual room for franchise leaders seeking meaningful discussion\, actionable best practices\, and deeper community connections. Facilitated by Emily Estes and Evan Hackel.
URL:https://gersonadvisoryservices.com/event/virtual-networking-franchise-community-roundtable-2/
LOCATION:Online Webinar
CATEGORIES:Networking
END:VEVENT
BEGIN:VEVENT
DTSTART;VALUE=DATE:20260624
DTEND;VALUE=DATE:20260627
DTSTAMP:20260419T145205
CREATED:20251124T000343Z
LAST-MODIFIED:20251124T000831Z
UID:1832-1782259200-1782518399@gersonadvisoryservices.com
SUMMARY:Service Franchise Summit 2026
DESCRIPTION:Service Franchise Summit 2026 is a high‑impact summit for franchise executives in home services\, health\, fitness\, pet\, education and other service industries. Held June 24–26\, 2026 at Sundance Resort in Utah\, the summit brings operators and decision‑makers together to shape the next phase of scalable\, profitable franchise growth in a focused environment for strategic work\, collaboration and execution.
URL:https://gersonadvisoryservices.com/event/service-franchise-summit-2026/
LOCATION:Sundance Resort\, 8841 N Alpine Loop Rd\, Sundance\, UT\, 84604\, USA
CATEGORIES:Summit
END:VEVENT
BEGIN:VEVENT
DTSTART;VALUE=DATE:20260624
DTEND;VALUE=DATE:20260628
DTSTAMP:20260419T145205
CREATED:20260113T002711Z
LAST-MODIFIED:20260113T002711Z
UID:2261-1782259200-1782604799@gersonadvisoryservices.com
SUMMARY:ABF Franchising Expo 2026
DESCRIPTION:The ABF Franchising Expo 2026 is the world’s largest franchise fair\, held at Expo Center Norte in São Paulo. Organized by the Associação Brasileira de Franchising and Informa Markets\, the four‑day expo brings together more than 420 brands and 60\,000 visitors\, offering high‑quality content\, immersive experiences and networking opportunities for entrepreneurs and investors seeking new franchise models and strategic connections.
URL:https://gersonadvisoryservices.com/event/abf-franchising-expo-2026/
LOCATION:Expo Center Norte\, Rua José Bernardo Pinto\, 333\, Vila Guilherme\, São Paulo\, SP\, 02055-000\, Brazil
CATEGORIES:Expo
END:VEVENT
BEGIN:VEVENT
DTSTART;TZID=America/New_York:20260625T080000
DTEND;TZID=America/New_York:20260625T180000
DTSTAMP:20260419T145205
CREATED:20260213T022005Z
LAST-MODIFIED:20260213T023744Z
UID:2448-1782374400-1782410400@gersonadvisoryservices.com
SUMMARY:Transworld Regional Meeting – Las Vegas 2026
DESCRIPTION:United Franchise Group’s 2026 Regional Meetings bring Transworld professionals together to collaborate\, share best practices and connect. The West Regional Meeting in Las Vegas features dynamic speakers\, interactive sessions and networking opportunities\, with agenda topics including selling steps\, LOI vs BAPA\, transaction management\, local marketing plans\, activity KPIs and case studies.
URL:https://gersonadvisoryservices.com/event/transworld-regional-meeting-las-vegas-2026/
LOCATION:TBA Las Vegas\, Las Vegas\, NV\, United States
CATEGORIES:Meeting
END:VEVENT
END:VCALENDAR