BEGIN:VCALENDAR
VERSION:2.0
PRODID:-//Gerson Advisory Services - ECPv6.15.20//NONSGML v1.0//EN
CALSCALE:GREGORIAN
METHOD:PUBLISH
X-ORIGINAL-URL:https://gersonadvisoryservices.com
X-WR-CALDESC:Events for Gerson Advisory Services
REFRESH-INTERVAL;VALUE=DURATION:PT1H
X-Robots-Tag:noindex
X-PUBLISHED-TTL:PT1H
BEGIN:VTIMEZONE
TZID:Europe/Rome
BEGIN:DAYLIGHT
TZOFFSETFROM:+0100
TZOFFSETTO:+0200
TZNAME:CEST
DTSTART:20250330T010000
END:DAYLIGHT
BEGIN:STANDARD
TZOFFSETFROM:+0200
TZOFFSETTO:+0100
TZNAME:CET
DTSTART:20251026T010000
END:STANDARD
BEGIN:DAYLIGHT
TZOFFSETFROM:+0100
TZOFFSETTO:+0200
TZNAME:CEST
DTSTART:20260329T010000
END:DAYLIGHT
BEGIN:STANDARD
TZOFFSETFROM:+0200
TZOFFSETTO:+0100
TZNAME:CET
DTSTART:20261025T010000
END:STANDARD
BEGIN:DAYLIGHT
TZOFFSETFROM:+0100
TZOFFSETTO:+0200
TZNAME:CEST
DTSTART:20270328T010000
END:DAYLIGHT
BEGIN:STANDARD
TZOFFSETFROM:+0200
TZOFFSETTO:+0100
TZNAME:CET
DTSTART:20271031T010000
END:STANDARD
END:VTIMEZONE
BEGIN:VTIMEZONE
TZID:America/New_York
BEGIN:DAYLIGHT
TZOFFSETFROM:-0500
TZOFFSETTO:-0400
TZNAME:EDT
DTSTART:20250309T070000
END:DAYLIGHT
BEGIN:STANDARD
TZOFFSETFROM:-0400
TZOFFSETTO:-0500
TZNAME:EST
DTSTART:20251102T060000
END:STANDARD
BEGIN:DAYLIGHT
TZOFFSETFROM:-0500
TZOFFSETTO:-0400
TZNAME:EDT
DTSTART:20260308T070000
END:DAYLIGHT
BEGIN:STANDARD
TZOFFSETFROM:-0400
TZOFFSETTO:-0500
TZNAME:EST
DTSTART:20261101T060000
END:STANDARD
BEGIN:DAYLIGHT
TZOFFSETFROM:-0500
TZOFFSETTO:-0400
TZNAME:EDT
DTSTART:20270314T070000
END:DAYLIGHT
BEGIN:STANDARD
TZOFFSETFROM:-0400
TZOFFSETTO:-0500
TZNAME:EST
DTSTART:20271107T060000
END:STANDARD
END:VTIMEZONE
BEGIN:VTIMEZONE
TZID:America/Sao_Paulo
BEGIN:STANDARD
TZOFFSETFROM:-0300
TZOFFSETTO:-0300
TZNAME:-03
DTSTART:20250101T000000
END:STANDARD
END:VTIMEZONE
BEGIN:VTIMEZONE
TZID:Asia/Tokyo
BEGIN:STANDARD
TZOFFSETFROM:+0900
TZOFFSETTO:+0900
TZNAME:JST
DTSTART:20250101T000000
END:STANDARD
END:VTIMEZONE
BEGIN:VTIMEZONE
TZID:Pacific/Honolulu
BEGIN:STANDARD
TZOFFSETFROM:-1000
TZOFFSETTO:-1000
TZNAME:HST
DTSTART:20250101T000000
END:STANDARD
END:VTIMEZONE
BEGIN:VTIMEZONE
TZID:America/Chicago
BEGIN:DAYLIGHT
TZOFFSETFROM:-0600
TZOFFSETTO:-0500
TZNAME:CDT
DTSTART:20250309T080000
END:DAYLIGHT
BEGIN:STANDARD
TZOFFSETFROM:-0500
TZOFFSETTO:-0600
TZNAME:CST
DTSTART:20251102T070000
END:STANDARD
BEGIN:DAYLIGHT
TZOFFSETFROM:-0600
TZOFFSETTO:-0500
TZNAME:CDT
DTSTART:20260308T080000
END:DAYLIGHT
BEGIN:STANDARD
TZOFFSETFROM:-0500
TZOFFSETTO:-0600
TZNAME:CST
DTSTART:20261101T070000
END:STANDARD
BEGIN:DAYLIGHT
TZOFFSETFROM:-0600
TZOFFSETTO:-0500
TZNAME:CDT
DTSTART:20270314T080000
END:DAYLIGHT
BEGIN:STANDARD
TZOFFSETFROM:-0500
TZOFFSETTO:-0600
TZNAME:CST
DTSTART:20271107T070000
END:STANDARD
END:VTIMEZONE
BEGIN:VEVENT
DTSTART;VALUE=DATE:20260611
DTEND;VALUE=DATE:20260614
DTSTAMP:20260419T233041
CREATED:20251031T020444Z
LAST-MODIFIED:20251031T020444Z
UID:1604-1781136000-1781395199@gersonadvisoryservices.com
SUMMARY:ISoF 39th Annual Conference 2026
DESCRIPTION:The International Society of Franchising (ISoF) will host its 39th Annual Conference June 11-13\, 2026 at John Cabot University in Rome\, Italy\, bringing together researchers and practitioners to discuss franchise issues.
URL:https://gersonadvisoryservices.com/event/isof-39th-annual-conference-2026/
LOCATION:John Cabot University\, Via della Lungara\, 233\, Rome\, 00165\, Italy
CATEGORIES:Conference
END:VEVENT
BEGIN:VEVENT
DTSTART;VALUE=DATE:20260613
DTEND;VALUE=DATE:20260615
DTSTAMP:20260419T233041
CREATED:20251020T005358Z
LAST-MODIFIED:20251020T005358Z
UID:1462-1781308800-1781481599@gersonadvisoryservices.com
SUMMARY:Portland Franchise Show
DESCRIPTION:Franchise show presenting franchise opportunities and educational seminars in Portland.
URL:https://gersonadvisoryservices.com/event/portland-franchise-show/
LOCATION:Portland Expo Center – Hall B\, 2060 N Marine Dr\, Portland\, OR\, 97217\, USA
END:VEVENT
BEGIN:VEVENT
DTSTART;TZID=America/New_York:20260618T113000
DTEND;TZID=America/New_York:20260618T124500
DTSTAMP:20260419T233041
CREATED:20260326T004546Z
LAST-MODIFIED:20260326T004546Z
UID:2574-1781782200-1781786700@gersonadvisoryservices.com
SUMMARY:Virtual Networking | Franchise Community Roundtable
DESCRIPTION:A working virtual room for franchise leaders seeking meaningful discussion\, actionable best practices\, and deeper community connections. Facilitated by Emily Estes and Evan Hackel.
URL:https://gersonadvisoryservices.com/event/virtual-networking-franchise-community-roundtable-2/
LOCATION:Online Webinar
CATEGORIES:Networking
END:VEVENT
BEGIN:VEVENT
DTSTART;VALUE=DATE:20260624
DTEND;VALUE=DATE:20260627
DTSTAMP:20260419T233041
CREATED:20251124T000343Z
LAST-MODIFIED:20251124T000831Z
UID:1832-1782259200-1782518399@gersonadvisoryservices.com
SUMMARY:Service Franchise Summit 2026
DESCRIPTION:Service Franchise Summit 2026 is a high‑impact summit for franchise executives in home services\, health\, fitness\, pet\, education and other service industries. Held June 24–26\, 2026 at Sundance Resort in Utah\, the summit brings operators and decision‑makers together to shape the next phase of scalable\, profitable franchise growth in a focused environment for strategic work\, collaboration and execution.
URL:https://gersonadvisoryservices.com/event/service-franchise-summit-2026/
LOCATION:Sundance Resort\, 8841 N Alpine Loop Rd\, Sundance\, UT\, 84604\, USA
CATEGORIES:Summit
END:VEVENT
BEGIN:VEVENT
DTSTART;VALUE=DATE:20260624
DTEND;VALUE=DATE:20260628
DTSTAMP:20260419T233041
CREATED:20260113T002711Z
LAST-MODIFIED:20260113T002711Z
UID:2261-1782259200-1782604799@gersonadvisoryservices.com
SUMMARY:ABF Franchising Expo 2026
DESCRIPTION:The ABF Franchising Expo 2026 is the world’s largest franchise fair\, held at Expo Center Norte in São Paulo. Organized by the Associação Brasileira de Franchising and Informa Markets\, the four‑day expo brings together more than 420 brands and 60\,000 visitors\, offering high‑quality content\, immersive experiences and networking opportunities for entrepreneurs and investors seeking new franchise models and strategic connections.
URL:https://gersonadvisoryservices.com/event/abf-franchising-expo-2026/
LOCATION:Expo Center Norte\, Rua José Bernardo Pinto\, 333\, Vila Guilherme\, São Paulo\, SP\, 02055-000\, Brazil
CATEGORIES:Expo
END:VEVENT
BEGIN:VEVENT
DTSTART;TZID=America/New_York:20260625T080000
DTEND;TZID=America/New_York:20260625T180000
DTSTAMP:20260419T233041
CREATED:20260213T022005Z
LAST-MODIFIED:20260213T023744Z
UID:2448-1782374400-1782410400@gersonadvisoryservices.com
SUMMARY:Transworld Regional Meeting – Las Vegas 2026
DESCRIPTION:United Franchise Group’s 2026 Regional Meetings bring Transworld professionals together to collaborate\, share best practices and connect. The West Regional Meeting in Las Vegas features dynamic speakers\, interactive sessions and networking opportunities\, with agenda topics including selling steps\, LOI vs BAPA\, transaction management\, local marketing plans\, activity KPIs and case studies.
URL:https://gersonadvisoryservices.com/event/transworld-regional-meeting-las-vegas-2026/
LOCATION:TBA Las Vegas\, Las Vegas\, NV\, United States
CATEGORIES:Meeting
END:VEVENT
BEGIN:VEVENT
DTSTART;TZID=Asia/Tokyo:20260702T100000
DTEND;TZID=Asia/Tokyo:20260703T163000
DTSTAMP:20260419T233041
CREATED:20260113T002710Z
LAST-MODIFIED:20260113T002710Z
UID:2259-1782986400-1783096200@gersonadvisoryservices.com
SUMMARY:Japan Int'l Franchise Show Osaka 2026
DESCRIPTION:Japan Int’l Franchise Show Osaka 2026 brings one of the country’s largest franchise exhibitions to western Japan. Hosted at INTEX Osaka\, it showcases services and products for aging society needs\, home food\, product deliveries and more\, drawing distributors\, investors and franchisers seeking to expand into the Japanese market.
URL:https://gersonadvisoryservices.com/event/japan-intl-franchise-show-osaka-2026/
LOCATION:INTEX Osaka\, 1-5-102 Nanko-Kita\, Suminoe-ku\, Osaka\, Osaka\, 559-0034\, Japan
CATEGORIES:Trade Show
END:VEVENT
BEGIN:VEVENT
DTSTART;VALUE=DATE:20260713
DTEND;VALUE=DATE:20260718
DTSTAMP:20260419T233041
CREATED:20251228T233104Z
LAST-MODIFIED:20251228T233104Z
UID:2109-1783900800-1784332799@gersonadvisoryservices.com
SUMMARY:JIB-NFA Franchise Conference 2026
DESCRIPTION:The National Jack in the Box Franchisee Association (JIB‑NFA) brings Jack in the Box operators\, corporate personnel and allied partners together for networking and business development. The 2026 conference takes place July 13–17 at the Hyatt Regency Maui Resort in Lahaina\, Hawaii\, featuring a golf tournament\, general sessions\, receptions and a tradeshow.
URL:https://gersonadvisoryservices.com/event/jib-nfa-franchise-conference-2026/
LOCATION:Hyatt Regency Maui Resort\, 200 Nohea Kai Drive\, Lahaina\, HI\, 96761\, USA
CATEGORIES:Conference
END:VEVENT
BEGIN:VEVENT
DTSTART;TZID=America/New_York:20260716T113000
DTEND;TZID=America/New_York:20260716T124500
DTSTAMP:20260419T233041
CREATED:20260326T004546Z
LAST-MODIFIED:20260326T004546Z
UID:2575-1784201400-1784205900@gersonadvisoryservices.com
SUMMARY:Virtual Networking | Franchise Community Roundtable
DESCRIPTION:Recurring virtual roundtable offering franchise professionals a space to collaborate\, share strategies\, and strengthen relationships. Led by Chair Emily Estes and Co-Chair Evan Hackel.
URL:https://gersonadvisoryservices.com/event/virtual-networking-franchise-community-roundtable-3/
LOCATION:Online Webinar
CATEGORIES:Networking
END:VEVENT
BEGIN:VEVENT
DTSTART;TZID=America/New_York:20260721T140000
DTEND;TZID=America/New_York:20260721T150000
DTSTAMP:20260419T233041
CREATED:20260409T031030Z
LAST-MODIFIED:20260409T031030Z
UID:2643-1784642400-1784646000@gersonadvisoryservices.com
SUMMARY:Webinar | The Psychology of Franchise Sales: Understanding How Candidates Decide
DESCRIPTION:IFA webinar exploring the psychology behind franchise candidate decision-making. Earns 1 CFE IFA LIVE Credit.
URL:https://gersonadvisoryservices.com/event/webinar-the-psychology-of-franchise-sales-understanding-how-candidates-decide/
CATEGORIES:Webinar
END:VEVENT
BEGIN:VEVENT
DTSTART;VALUE=DATE:20260808
DTEND;VALUE=DATE:20260914
DTSTAMP:20260419T233041
CREATED:20260409T031223Z
LAST-MODIFIED:20260409T032152Z
UID:2646-1786147200-1789343999@gersonadvisoryservices.com
SUMMARY:IFA Foundations of Franchising – August 2026
DESCRIPTION:IFA’s flagship online educational program covering the fundamentals of franchising. Earns 52 Core CFE Credits. Runs August 8 – September 13\, 2026.
URL:https://gersonadvisoryservices.com/event/ifa-foundations-of-franchising-august-2026/
LOCATION:Virtual (Online Webinar)
CATEGORIES:Training
END:VEVENT
BEGIN:VEVENT
DTSTART;VALUE=DATE:20260817
DTEND;VALUE=DATE:20260824
DTSTAMP:20260419T233041
CREATED:20251027T010329Z
LAST-MODIFIED:20251027T010329Z
UID:1559-1786924800-1787529599@gersonadvisoryservices.com
SUMMARY:International Franchising Fundamentals – August 2026
DESCRIPTION:The International Franchising Fundamentals course provides a blueprint for expanding into new markets with less risk and more reward.
URL:https://gersonadvisoryservices.com/event/international-franchising-fundamentals-august-2026/
CATEGORIES:Course
END:VEVENT
BEGIN:VEVENT
DTSTART;VALUE=DATE:20260818
DTEND;VALUE=DATE:20260820
DTSTAMP:20260419T233041
CREATED:20251210T230422Z
LAST-MODIFIED:20251210T230422Z
UID:2030-1787011200-1787183999@gersonadvisoryservices.com
SUMMARY:2026 Franchise Summit: The Art and Science of Successful Franchising
DESCRIPTION:The 2026 Franchise Summit is a two‑day event dedicated to issues faced by franchise executives. Interactive sessions led by top authorities tackle challenges and opportunities\, providing tested best practices and invaluable networking with franchising professionals.
URL:https://gersonadvisoryservices.com/event/2026-franchise-summit-the-art-and-science-of-successful-franchising/
LOCATION:InterContinental Minneapolis – St. Paul Airport\, 5005 Glumack Drive\, Minneapolis\, MN\, 55450\, USA
CATEGORIES:Summit
END:VEVENT
BEGIN:VEVENT
DTSTART;TZID=America/New_York:20260820T113000
DTEND;TZID=America/New_York:20260820T124500
DTSTAMP:20260419T233041
CREATED:20260326T004702Z
LAST-MODIFIED:20260326T004702Z
UID:2586-1787225400-1787229900@gersonadvisoryservices.com
SUMMARY:Virtual Networking | Franchise Community Roundtable
DESCRIPTION:A virtual franchise leadership forum centered on practical insights\, operational problem-solving\, and peer collaboration. Hosted by Emily Estes and Evan Hackel.
URL:https://gersonadvisoryservices.com/event/virtual-networking-franchise-community-roundtable-4/
LOCATION:Online Webinar
CATEGORIES:Networking
END:VEVENT
BEGIN:VEVENT
DTSTART;VALUE=DATE:20260912
DTEND;VALUE=DATE:20260914
DTSTAMP:20260419T233041
CREATED:20251120T030020Z
LAST-MODIFIED:20251120T030353Z
UID:1807-1789171200-1789343999@gersonadvisoryservices.com
SUMMARY:NY–NJ Franchise Trade Show & Money Expo
DESCRIPTION:Join the region’s largest franchise marketplace at the NY/NJ Franchise Trade Show & Money Expo hosted at the American Dream on September 12-13 2026. Designed for the New York/New Jersey corridor\, this show features premiere franchise brands\, investor-ready opportunities\, educational tracks on growth strategy\, and on-site financing solutions — making it the go-to sh ow for serious franchise seekers in the northeast.
URL:https://gersonadvisoryservices.com/event/ny-nj-franchise-trade-show-money-expo-2/
CATEGORIES:Trade Show
END:VEVENT
BEGIN:VEVENT
DTSTART;VALUE=DATE:20260912
DTEND;VALUE=DATE:20260914
DTSTAMP:20260419T233041
CREATED:20251202T031947Z
LAST-MODIFIED:20251202T032550Z
UID:1929-1789171200-1789343999@gersonadvisoryservices.com
SUMMARY:Detroit Franchise Show 2026
DESCRIPTION:The Detroit Franchise Show is a two day event built for people who want a real look at franchise ownership. Attendees meet franchisors face to face and sit in on focused seminars that spell out the path from interest to investment.
URL:https://gersonadvisoryservices.com/event/detroit-franchise-show-2026/
END:VEVENT
BEGIN:VEVENT
DTSTART;VALUE=DATE:20260914
DTEND;VALUE=DATE:20260917
DTSTAMP:20260419T233041
CREATED:20260122T232928Z
LAST-MODIFIED:20260122T233246Z
UID:2380-1789344000-1789603199@gersonadvisoryservices.com
SUMMARY:Franchise Advocacy Summit 2026
DESCRIPTION:Multi-day summit where franchise leaders gather in Washington\, DC to advocate for pro-franchising public policy and industry interests.
URL:https://gersonadvisoryservices.com/event/franchise-advocacy-summit-2026/
LOCATION:TBA Washington\, Washington
CATEGORIES:Summit
END:VEVENT
BEGIN:VEVENT
DTSTART;VALUE=DATE:20260914
DTEND;VALUE=DATE:20261026
DTSTAMP:20260419T233041
CREATED:20260409T031223Z
LAST-MODIFIED:20260409T032254Z
UID:2647-1789344000-1792972799@gersonadvisoryservices.com
SUMMARY:IFA Foundations of Franchising – September 2026
DESCRIPTION:IFA’s flagship online educational program covering the fundamentals of franchising. Earns 52 Core CFE Credits. Runs September 14 – October 25\, 2026.
URL:https://gersonadvisoryservices.com/event/ifa-foundations-of-franchising-september-2026/
LOCATION:Virtual (Online Webinar)
CATEGORIES:Training
END:VEVENT
BEGIN:VEVENT
DTSTART;TZID=America/New_York:20260918T100000
DTEND;TZID=America/New_York:20260919T160000
DTSTAMP:20260419T233041
CREATED:20251204T004658Z
LAST-MODIFIED:20251204T004821Z
UID:1977-1789725600-1789833600@gersonadvisoryservices.com
SUMMARY:Franchise Expo Dallas 2026
DESCRIPTION:Franchise Expo Dallas brings together entrepreneurs\, investors and franchise brands for two days of learning\, discovery and connection. Attendees can explore more than 125 franchise opportunities across a variety of industries\, meet franchisors and industry experts\, and attend educational sessions and workshops about franchise ownership.
URL:https://gersonadvisoryservices.com/event/franchise-expo-dallas-2026/
LOCATION:Irving Convention Center at Las Colinas\, 500 W Las Colinas Blvd\, Irving\, TX\, 75039\, USA
END:VEVENT
BEGIN:VEVENT
DTSTART;VALUE=DATE:20260919
DTEND;VALUE=DATE:20260921
DTSTAMP:20260419T233041
CREATED:20251202T033249Z
LAST-MODIFIED:20251202T033639Z
UID:1945-1789776000-1789948799@gersonadvisoryservices.com
SUMMARY:Toronto Fall Franchise Show 2026
DESCRIPTION:The Toronto Fall Franchise Show is a two day event focused on buyers looking for real conversations with franchise brands. Attendees meet franchisors directly and get targeted seminars that cover funding\, operations and long term success.
URL:https://gersonadvisoryservices.com/event/toronto-fall-franchise-show-2026/
LOCATION:The International Centre\, 6900 Airport Road\, Mississauga\, ON\, Canada
END:VEVENT
BEGIN:VEVENT
DTSTART;TZID=America/New_York:20260922T140000
DTEND;TZID=America/New_York:20260922T150000
DTSTAMP:20260419T233041
CREATED:20260409T031223Z
LAST-MODIFIED:20260409T031223Z
UID:2648-1790085600-1790089200@gersonadvisoryservices.com
SUMMARY:Webinar | The Consultant-Franchisor Partnership: What Drives Mutual Success
DESCRIPTION:IFA webinar examining what makes consultant-franchisor relationships successful. Earns 1 CFE IFA LIVE Credit.
URL:https://gersonadvisoryservices.com/event/webinar-the-consultant-franchisor-partnership-what-drives-mutual-success/
CATEGORIES:Webinar
END:VEVENT
BEGIN:VEVENT
DTSTART;VALUE=DATE:20260923
DTEND;VALUE=DATE:20260926
DTSTAMP:20260419T233041
CREATED:20251202T030958Z
LAST-MODIFIED:20260122T233337Z
UID:1915-1790121600-1790380799@gersonadvisoryservices.com
SUMMARY:Springboard Conference 2026
DESCRIPTION:Conference designed for emerging and re-emerging franchise brands\, offering education\, leadership development\, and peer networking.
URL:https://gersonadvisoryservices.com/event/springboard-conference-2026/
LOCATION:TBA Fort Worth\, Fort Worth\, TX\, USA
CATEGORIES:Conference
END:VEVENT
BEGIN:VEVENT
DTSTART;VALUE=DATE:20260925
DTEND;VALUE=DATE:20260927
DTSTAMP:20260419T233041
CREATED:20251024T031243Z
LAST-MODIFIED:20251024T031243Z
UID:1515-1790294400-1790467199@gersonadvisoryservices.com
SUMMARY:2026 IFA World Franchise Show
DESCRIPTION:IFA World Franchise Show 2026\, bringing together hundreds of franchise opportunities and resources with masterclasses\, panel discussions and networking.
URL:https://gersonadvisoryservices.com/event/2026-ifa-world-franchise-show/
LOCATION:Greater Ft. Lauderdale Broward County Convention Center\, 1950 Eisenhower Blvd\, Fort Lauderdale\, FL\, 33316\, USA
CATEGORIES:Conference
END:VEVENT
BEGIN:VEVENT
DTSTART;VALUE=DATE:20260926
DTEND;VALUE=DATE:20260928
DTSTAMP:20260419T233041
CREATED:20251120T030020Z
LAST-MODIFIED:20251120T030431Z
UID:1808-1790380800-1790553599@gersonadvisoryservices.com
SUMMARY:Detroit Franchise Trade Show & Money Expo
DESCRIPTION:Attend the Detroit Franchise Trade Show & Money Expo at the Oakland Expo Center in Waterford\, Michigan on September 26-27 2026. This regional powerhouse connects you with multi-brand franchisors\, capital partners\, and franchise development experts. Whether you’re evaluating your first franchise or expanding a multi-unit portfolio\, you’ll explore live exhibits\, insightful sessions\, and funding options under one roof.
URL:https://gersonadvisoryservices.com/event/detroit-franchise-trade-show-money-expo/
LOCATION:Oakland Expo Center\, Detroit\, Michigan\, USA
CATEGORIES:Trade Show
END:VEVENT
BEGIN:VEVENT
DTSTART;TZID=America/New_York:20260926T000000
DTEND;TZID=America/New_York:20260929T000000
DTSTAMP:20260419T233041
CREATED:20260213T022005Z
LAST-MODIFIED:20260213T023820Z
UID:2449-1790380800-1790640000@gersonadvisoryservices.com
SUMMARY:Transworld Master License Summit 2026
DESCRIPTION:United Franchise Group’s Master License Summit in Istanbul brings together Transworld master licensees for multi-day sessions focused on collaboration\, sharing best practices and connecting. Attendees will experience dynamic speakers\, breakout sessions and networking opportunities.
URL:https://gersonadvisoryservices.com/event/transworld-master-license-summit-2026/
LOCATION:TBA Istanbul\, Istanbul\, Turkey
CATEGORIES:Summit
END:VEVENT
BEGIN:VEVENT
DTSTART;VALUE=DATE:20260928
DTEND;VALUE=DATE:20261001
DTSTAMP:20260419T233041
CREATED:20251020T005626Z
LAST-MODIFIED:20251020T005626Z
UID:1454-1790553600-1790812799@gersonadvisoryservices.com
SUMMARY:IFPG Retreat 2026
DESCRIPTION:IFPG’s signature networking retreat offers education and networking opportunities for franchise professionals.
URL:https://gersonadvisoryservices.com/event/ifpg-retreat-2026/
LOCATION:Diplomat Hollywood Beach Resort\, 3555 South Ocean Drive\, Hollywood\, FL\, 33019\, USA
END:VEVENT
BEGIN:VEVENT
DTSTART;VALUE=DATE:20261003
DTEND;VALUE=DATE:20261005
DTSTAMP:20260419T233041
CREATED:20251202T031947Z
LAST-MODIFIED:20251202T033151Z
UID:1930-1790985600-1791158399@gersonadvisoryservices.com
SUMMARY:Philadelphia Franchise Show 2026
DESCRIPTION:The Philadelphia Franchise Show is a two day event that connects serious buyers with proven franchise brands. Visitors get direct access to franchisors and practical sessions that explain funding\, operations and long term growth.
URL:https://gersonadvisoryservices.com/event/philadelphia-franchise-show-2026/
LOCATION:Greater Philadelphia Expo Center\, 100 Station Avenue\, Oaks\, PA\, 19456\, USA
END:VEVENT
BEGIN:VEVENT
DTSTART;VALUE=DATE:20261003
DTEND;VALUE=DATE:20261005
DTSTAMP:20260419T233041
CREATED:20251202T033249Z
LAST-MODIFIED:20251202T033648Z
UID:1946-1790985600-1791158399@gersonadvisoryservices.com
SUMMARY:Calgary Franchise Show 2026
DESCRIPTION:The Calgary Franchise Show is a two day event for future owners who want clear\, candid insight before committing. Guests connect with franchisors\, compare concepts and sit in on seminars that break down the realities of buying in.
URL:https://gersonadvisoryservices.com/event/calgary-franchise-show-2026/
LOCATION:BMO Centre – Hall D\, 1912 Flores LaDue Parade SE\, Calgary\, AB\, T2G 2W1\, Canada
END:VEVENT
BEGIN:VEVENT
DTSTART;VALUE=DATE:20261005
DTEND;VALUE=DATE:20261116
DTSTAMP:20260419T233041
CREATED:20260409T031223Z
LAST-MODIFIED:20260409T032416Z
UID:2649-1791158400-1794787199@gersonadvisoryservices.com
SUMMARY:IFA Foundations of Franchising - October 2026
DESCRIPTION:IFA’s flagship online educational program covering the fundamentals of franchising. Earns 52 Core CFE Credits. Runs October 5 – November 15\, 2026.
URL:https://gersonadvisoryservices.com/event/ifa-foundations-of-franchising-october-2026/
LOCATION:Virtual (Online Webinar)
CATEGORIES:Training
END:VEVENT
BEGIN:VEVENT
DTSTART;VALUE=DATE:20261006
DTEND;VALUE=DATE:20261009
DTSTAMP:20260419T233041
CREATED:20251022T030037Z
LAST-MODIFIED:20251103T212021Z
UID:1487-1791244800-1791503999@gersonadvisoryservices.com
SUMMARY:Franchise Leadership & Development Conference 2026
DESCRIPTION:The Franchise Leadership & Development Conference focuses on leadership and development strategies for franchising\, featuring speakers and networking sessions for franchise leaders.
URL:https://gersonadvisoryservices.com/event/franchise-leadership-development-conference-2026/
LOCATION:InterContinental Buckhead Hotel\, 3315 Peachtree Rd NE\, Atlanta\, GA\, 30326\, United States
END:VEVENT
END:VCALENDAR