BEGIN:VCALENDAR
VERSION:2.0
PRODID:-//Gerson Advisory Services - ECPv6.15.20//NONSGML v1.0//EN
CALSCALE:GREGORIAN
METHOD:PUBLISH
X-ORIGINAL-URL:https://gersonadvisoryservices.com
X-WR-CALDESC:Events for Gerson Advisory Services
REFRESH-INTERVAL;VALUE=DURATION:PT1H
X-Robots-Tag:noindex
X-PUBLISHED-TTL:PT1H
BEGIN:VTIMEZONE
TZID:America/New_York
BEGIN:DAYLIGHT
TZOFFSETFROM:-0500
TZOFFSETTO:-0400
TZNAME:EDT
DTSTART:20250309T070000
END:DAYLIGHT
BEGIN:STANDARD
TZOFFSETFROM:-0400
TZOFFSETTO:-0500
TZNAME:EST
DTSTART:20251102T060000
END:STANDARD
BEGIN:DAYLIGHT
TZOFFSETFROM:-0500
TZOFFSETTO:-0400
TZNAME:EDT
DTSTART:20260308T070000
END:DAYLIGHT
BEGIN:STANDARD
TZOFFSETFROM:-0400
TZOFFSETTO:-0500
TZNAME:EST
DTSTART:20261101T060000
END:STANDARD
BEGIN:DAYLIGHT
TZOFFSETFROM:-0500
TZOFFSETTO:-0400
TZNAME:EDT
DTSTART:20270314T070000
END:DAYLIGHT
BEGIN:STANDARD
TZOFFSETFROM:-0400
TZOFFSETTO:-0500
TZNAME:EST
DTSTART:20271107T060000
END:STANDARD
END:VTIMEZONE
BEGIN:VTIMEZONE
TZID:America/Toronto
BEGIN:DAYLIGHT
TZOFFSETFROM:-0500
TZOFFSETTO:-0400
TZNAME:EDT
DTSTART:20250309T070000
END:DAYLIGHT
BEGIN:STANDARD
TZOFFSETFROM:-0400
TZOFFSETTO:-0500
TZNAME:EST
DTSTART:20251102T060000
END:STANDARD
BEGIN:DAYLIGHT
TZOFFSETFROM:-0500
TZOFFSETTO:-0400
TZNAME:EDT
DTSTART:20260308T070000
END:DAYLIGHT
BEGIN:STANDARD
TZOFFSETFROM:-0400
TZOFFSETTO:-0500
TZNAME:EST
DTSTART:20261101T060000
END:STANDARD
BEGIN:DAYLIGHT
TZOFFSETFROM:-0500
TZOFFSETTO:-0400
TZNAME:EDT
DTSTART:20270314T070000
END:DAYLIGHT
BEGIN:STANDARD
TZOFFSETFROM:-0400
TZOFFSETTO:-0500
TZNAME:EST
DTSTART:20271107T060000
END:STANDARD
END:VTIMEZONE
BEGIN:VTIMEZONE
TZID:America/Denver
BEGIN:DAYLIGHT
TZOFFSETFROM:-0700
TZOFFSETTO:-0600
TZNAME:MDT
DTSTART:20250309T090000
END:DAYLIGHT
BEGIN:STANDARD
TZOFFSETFROM:-0600
TZOFFSETTO:-0700
TZNAME:MST
DTSTART:20251102T080000
END:STANDARD
BEGIN:DAYLIGHT
TZOFFSETFROM:-0700
TZOFFSETTO:-0600
TZNAME:MDT
DTSTART:20260308T090000
END:DAYLIGHT
BEGIN:STANDARD
TZOFFSETFROM:-0600
TZOFFSETTO:-0700
TZNAME:MST
DTSTART:20261101T080000
END:STANDARD
BEGIN:DAYLIGHT
TZOFFSETFROM:-0700
TZOFFSETTO:-0600
TZNAME:MDT
DTSTART:20270314T090000
END:DAYLIGHT
BEGIN:STANDARD
TZOFFSETFROM:-0600
TZOFFSETTO:-0700
TZNAME:MST
DTSTART:20271107T080000
END:STANDARD
END:VTIMEZONE
BEGIN:VTIMEZONE
TZID:America/Los_Angeles
BEGIN:DAYLIGHT
TZOFFSETFROM:-0800
TZOFFSETTO:-0700
TZNAME:PDT
DTSTART:20250309T100000
END:DAYLIGHT
BEGIN:STANDARD
TZOFFSETFROM:-0700
TZOFFSETTO:-0800
TZNAME:PST
DTSTART:20251102T090000
END:STANDARD
BEGIN:DAYLIGHT
TZOFFSETFROM:-0800
TZOFFSETTO:-0700
TZNAME:PDT
DTSTART:20260308T100000
END:DAYLIGHT
BEGIN:STANDARD
TZOFFSETFROM:-0700
TZOFFSETTO:-0800
TZNAME:PST
DTSTART:20261101T090000
END:STANDARD
BEGIN:DAYLIGHT
TZOFFSETFROM:-0800
TZOFFSETTO:-0700
TZNAME:PDT
DTSTART:20270314T100000
END:DAYLIGHT
BEGIN:STANDARD
TZOFFSETFROM:-0700
TZOFFSETTO:-0800
TZNAME:PST
DTSTART:20271107T090000
END:STANDARD
END:VTIMEZONE
BEGIN:VTIMEZONE
TZID:America/Chicago
BEGIN:DAYLIGHT
TZOFFSETFROM:-0600
TZOFFSETTO:-0500
TZNAME:CDT
DTSTART:20250309T080000
END:DAYLIGHT
BEGIN:STANDARD
TZOFFSETFROM:-0500
TZOFFSETTO:-0600
TZNAME:CST
DTSTART:20251102T070000
END:STANDARD
BEGIN:DAYLIGHT
TZOFFSETFROM:-0600
TZOFFSETTO:-0500
TZNAME:CDT
DTSTART:20260308T080000
END:DAYLIGHT
BEGIN:STANDARD
TZOFFSETFROM:-0500
TZOFFSETTO:-0600
TZNAME:CST
DTSTART:20261101T070000
END:STANDARD
BEGIN:DAYLIGHT
TZOFFSETFROM:-0600
TZOFFSETTO:-0500
TZNAME:CDT
DTSTART:20270314T080000
END:DAYLIGHT
BEGIN:STANDARD
TZOFFSETFROM:-0500
TZOFFSETTO:-0600
TZNAME:CST
DTSTART:20271107T070000
END:STANDARD
END:VTIMEZONE
BEGIN:VTIMEZONE
TZID:Europe/London
BEGIN:DAYLIGHT
TZOFFSETFROM:+0000
TZOFFSETTO:+0100
TZNAME:BST
DTSTART:20250330T010000
END:DAYLIGHT
BEGIN:STANDARD
TZOFFSETFROM:+0100
TZOFFSETTO:+0000
TZNAME:GMT
DTSTART:20251026T010000
END:STANDARD
BEGIN:DAYLIGHT
TZOFFSETFROM:+0000
TZOFFSETTO:+0100
TZNAME:BST
DTSTART:20260329T010000
END:DAYLIGHT
BEGIN:STANDARD
TZOFFSETFROM:+0100
TZOFFSETTO:+0000
TZNAME:GMT
DTSTART:20261025T010000
END:STANDARD
BEGIN:DAYLIGHT
TZOFFSETFROM:+0000
TZOFFSETTO:+0100
TZNAME:BST
DTSTART:20270328T010000
END:DAYLIGHT
BEGIN:STANDARD
TZOFFSETFROM:+0100
TZOFFSETTO:+0000
TZNAME:GMT
DTSTART:20271031T010000
END:STANDARD
END:VTIMEZONE
BEGIN:VEVENT
DTSTART;TZID=America/New_York:20260114T120000
DTEND;TZID=America/New_York:20260114T133000
DTSTAMP:20260423T164009
CREATED:20260105T030206Z
LAST-MODIFIED:20260105T030206Z
UID:2136-1768392000-1768397400@gersonadvisoryservices.com
SUMMARY:Franchising 101: Starting a Business Through a Franchise
DESCRIPTION:An online seminar teaching aspiring entrepreneurs what it takes to become a successful franchise owner in Virginia. The session covers how to assess potential franchises\, which concepts perform well in the region\, relevant regulations\, trends and opportunities\, and how to align your skills with the right franchise.
URL:https://gersonadvisoryservices.com/event/franchising-101-starting-a-business-through-a-franchise/
LOCATION:Virtual (Online Webinar)
CATEGORIES:Webinar
END:VEVENT
BEGIN:VEVENT
DTSTART;TZID=America/New_York:20260114T130000
DTEND;TZID=America/New_York:20260114T140000
DTSTAMP:20260423T164009
CREATED:20260105T030230Z
LAST-MODIFIED:20260105T030230Z
UID:2141-1768395600-1768399200@gersonadvisoryservices.com
SUMMARY:Learn & Grow Virtual Webinar: Earning Your CFE Designation – You’re Already on Your Way
DESCRIPTION:This session guides franchise professionals through the process of earning their Certified Franchise Executive designation. It explains how the credential elevates your expertise\, expands your network and enhances your credibility\, and offers step-by-step advice on completing the program and final credits.
URL:https://gersonadvisoryservices.com/event/learn-grow-virtual-webinar-earning-your-cfe-designation-youre-already-on-your-way/
LOCATION:Virtual (Online Webinar)
CATEGORIES:Webinar
END:VEVENT
BEGIN:VEVENT
DTSTART;TZID=America/New_York:20260115T160000
DTEND;TZID=America/New_York:20260115T173000
DTSTAMP:20260423T164009
CREATED:20251110T002055Z
LAST-MODIFIED:20251110T002522Z
UID:1738-1768492800-1768498200@gersonadvisoryservices.com
SUMMARY:Winter Series: Blueprint for a Scalable Franchise Model
DESCRIPTION:Discover what makes a franchise concept scalable and sustainable. This session covers the building blocks of a strong franchise model\, from defining a differentiated value proposition to developing replicable systems\, with practical templates and case examples for long-term success.
URL:https://gersonadvisoryservices.com/event/winter-series-blueprint-for-a-scalable-franchise-model/
LOCATION:Virtual (Online Webinar)
CATEGORIES:Webinar
END:VEVENT
BEGIN:VEVENT
DTSTART;TZID=America/New_York:20260120T120000
DTEND;TZID=America/New_York:20260120T130000
DTSTAMP:20260423T164009
CREATED:20251118T025623Z
LAST-MODIFIED:20251118T025721Z
UID:1773-1768910400-1768914000@gersonadvisoryservices.com
SUMMARY:Webinar | WFC: Take the Lead Tuesdays – A Roundtable Series featuring Robin Gagnon\, CEO & Co‑Founder\, We Sell Restaurants
DESCRIPTION:The International Franchise Association’s Women’s Franchise Committee hosts a monthly Take the Lead Tuesdays roundtable series where women in franchising connect in an unscripted\, supportive environment. Each session begins with a 10‑minute spotlight on a franchise leader—in this edition\, Robin Gagnon\, CEO & Co‑Founder of We Sell Restaurants—followed by open discussion and mentorship\, with no slides or recordings.
URL:https://gersonadvisoryservices.com/event/webinar-wfc-take-the-lead-tuesdays-a-roundtable-series-featuring-robin-gagnon-ceo-co%e2%80%91founder-we-sell-restaurants/
LOCATION:Virtual (Online Webinar)
CATEGORIES:Webinar
END:VEVENT
BEGIN:VEVENT
DTSTART;TZID=America/New_York:20260120T130000
DTEND;TZID=America/New_York:20260120T133000
DTSTAMP:20260423T164009
CREATED:20251228T233147Z
LAST-MODIFIED:20251228T233507Z
UID:2113-1768914000-1768915800@gersonadvisoryservices.com
SUMMARY:Webinar | AI: Not Just for Emails Anymore
DESCRIPTION:Discover how AI-driven tools are helping brands optimize both franchise development and franchisee success. Speakers explore practical AI applications across operations\, marketing\, development\, and consumer engagement.
URL:https://gersonadvisoryservices.com/event/webinar-ai-not-just-for-emails-anymore/
LOCATION:Virtual (Online Webinar)
CATEGORIES:Webinar
END:VEVENT
BEGIN:VEVENT
DTSTART;TZID=America/Toronto:20260120T140000
DTEND;TZID=America/Toronto:20260120T150000
DTSTAMP:20260423T164009
CREATED:20251222T035946Z
LAST-MODIFIED:20251222T041903Z
UID:2076-1768917600-1768921200@gersonadvisoryservices.com
SUMMARY:The UPS Store Franchise Webinar
DESCRIPTION:The UPS Store Canada invites prospective franchisees to a virtual webinar on January 20\, 2026 from 2:00 pm–3:00 pm EST. Attendees learn about The UPS Store franchise opportunity and how the brand supports new owners.
URL:https://gersonadvisoryservices.com/event/the-ups-store-franchise-webinar/
LOCATION:Virtual (Online Webinar)
CATEGORIES:Webinar
END:VEVENT
BEGIN:VEVENT
DTSTART;TZID=America/New_York:20260121T120000
DTEND;TZID=America/New_York:20260121T133000
DTSTAMP:20260423T164009
CREATED:20260105T030206Z
LAST-MODIFIED:20260105T030513Z
UID:2137-1768996800-1769002200@gersonadvisoryservices.com
SUMMARY:Franchising TOO – Trends\, Opportunities\, and Obstacles
DESCRIPTION:This online session examines current trends shaping franchising\, highlights the most promising franchise sectors and investment opportunities\, and warns participants about the pitfalls and challenges that new franchisees often encounter. It is designed to help attendees identify thriving franchises and avoid costly mistakes.
URL:https://gersonadvisoryservices.com/event/franchising-too-trends-opportunities-and-obstacles/
LOCATION:Virtual (Online Webinar)
CATEGORIES:Webinar
END:VEVENT
BEGIN:VEVENT
DTSTART;TZID=America/New_York:20260121T130000
DTEND;TZID=America/New_York:20260121T140000
DTSTAMP:20260423T164009
CREATED:20260105T030230Z
LAST-MODIFIED:20260105T030230Z
UID:2142-1769000400-1769004000@gersonadvisoryservices.com
SUMMARY:Learn & Grow Virtual Webinar: Work Smarter\, Not Harder – Using Custom AI Agents to Supercharge Franchise Performance
DESCRIPTION:This webinar offers a hands-on look at building and deploying custom AI agents tailored for franchise operations. Participants learn how AI tools can automate tasks\, enhance marketing\, and drive smarter decisions without sacrificing human connection. Presented by business growth expert Ford Saeks.
URL:https://gersonadvisoryservices.com/event/learn-grow-virtual-webinar-work-smarter-not-harder-using-custom-ai-agents-to-supercharge-franchise-performance/
LOCATION:Virtual (Online Webinar)
CATEGORIES:Webinar
END:VEVENT
BEGIN:VEVENT
DTSTART;TZID=America/New_York:20260121T140000
DTEND;TZID=America/New_York:20260121T150000
DTSTAMP:20260423T164009
CREATED:20260106T221947Z
LAST-MODIFIED:20260106T221947Z
UID:2178-1769004000-1769007600@gersonadvisoryservices.com
SUMMARY:Webinar | From Permission to Partnership: The Elite Playbook to Building Franchisee Trust and Adoption
DESCRIPTION:A live IFA webinar exploring elite franchisor strategies to build franchisee trust\, alignment and adoption through partnership frameworks. Offers practical playbook insights for driving trust and scalable adoption across franchise systems.
URL:https://gersonadvisoryservices.com/event/webinar-from-permission-to-partnership-the-elite-playbook-to-building-franchisee-trust-and-adoption/
LOCATION:Virtual\, Online\, United States
CATEGORIES:Webinar
END:VEVENT
BEGIN:VEVENT
DTSTART;TZID=America/New_York:20260122T120000
DTEND;TZID=America/New_York:20260122T130000
DTSTAMP:20260423T164009
CREATED:20251024T031243Z
LAST-MODIFIED:20251024T031243Z
UID:1514-1769083200-1769086800@gersonadvisoryservices.com
SUMMARY:Webinar: The We Stage – Building a High-Performing Franchise Network
DESCRIPTION:Part of the IFA LIVE series. Learn how to build a high-performing franchise network by aligning teams under a unified culture and leveraging collaboration across the system.
URL:https://gersonadvisoryservices.com/event/webinar-the-we-stage-building-a-high-performing-franchise-network/
CATEGORIES:Webinar
END:VEVENT
BEGIN:VEVENT
DTSTART;TZID=America/New_York:20260126T100000
DTEND;TZID=America/New_York:20260127T113000
DTSTAMP:20260423T164009
CREATED:20260127T190833Z
LAST-MODIFIED:20260127T190833Z
UID:2400-1769421600-1769513400@gersonadvisoryservices.com
SUMMARY:Outlook 2026 Webinar Series
DESCRIPTION:Franchise Times’ Outlook 2026 Webinar Series explores legal\, financial\, and strategic trends impacting franchising in 2026\, featuring expert insights to help franchise leaders plan for the year ahead.
URL:https://gersonadvisoryservices.com/event/outlook-2026-webinar-series/
LOCATION:Online Webinar
CATEGORIES:Webinar
END:VEVENT
BEGIN:VEVENT
DTSTART;TZID=America/New_York:20260127T180000
DTEND;TZID=America/New_York:20260127T190000
DTSTAMP:20260423T164009
CREATED:20251228T233104Z
LAST-MODIFIED:20251228T233104Z
UID:2107-1769536800-1769540400@gersonadvisoryservices.com
SUMMARY:What's Hot in 2026: Industry Trends & Opportunity Signals
DESCRIPTION:This virtual masterclass\, hosted by the Franchise Brokers Association\, explores the business and franchise trends shaping 2026. Industry experts will discuss emerging industries\, shifts in consumer behavior and opportunity signals to show where demand is growing and which business models are positioned for the future.
URL:https://gersonadvisoryservices.com/event/whats-hot-in-2026-industry-trends-opportunity-signals/
LOCATION:Virtual (Online Webinar)
CATEGORIES:Webinar
END:VEVENT
BEGIN:VEVENT
DTSTART;TZID=America/Denver:20260128T100000
DTEND;TZID=America/Denver:20260128T110000
DTSTAMP:20260423T164009
CREATED:20260106T222023Z
LAST-MODIFIED:20260106T222023Z
UID:2181-1769594400-1769598000@gersonadvisoryservices.com
SUMMARY:TAB Franchise Opportunity Webinar
DESCRIPTION:The Alternative Board (TAB) offers a free webinar for prospective franchise owners. Attendees learn about the TAB story\, what a TAB franchise owner does\, the services TAB provides to members\, investment and income opportunities\, and the franchisee qualification and selection process.
URL:https://gersonadvisoryservices.com/event/tab-franchise-opportunity-webinar/
LOCATION:Virtual (Online Webinar)
CATEGORIES:Webinar
END:VEVENT
BEGIN:VEVENT
DTSTART;TZID=America/Los_Angeles:20260128T100000
DTEND;TZID=America/Los_Angeles:20260128T113000
DTSTAMP:20260423T164009
CREATED:20251222T035945Z
LAST-MODIFIED:20251222T040734Z
UID:2070-1769594400-1769599800@gersonadvisoryservices.com
SUMMARY:WEBINAR Taking Charge of Your Career through Franchise & Business Ownership
DESCRIPTION:Hosted by the LA Regional SBDC Network\, this 90‑minute webinar helps you explore business ownership through franchising. Topics include identifying recession‑resistant businesses\, buying into a franchise\, low upfront costs\, different franchise models\, misconceptions about franchising\, building retirement income and creating a semi‑absentee business. Presented by franchise specialist Lauren Grant.
URL:https://gersonadvisoryservices.com/event/webinar-taking-charge-of-your-career-through-franchise-business-ownership/
LOCATION:Virtual (Online Webinar)
CATEGORIES:Webinar
END:VEVENT
BEGIN:VEVENT
DTSTART;TZID=America/New_York:20260129T143000
DTEND;TZID=America/New_York:20260129T153000
DTSTAMP:20260423T164009
CREATED:20251228T233147Z
LAST-MODIFIED:20251228T233622Z
UID:2114-1769697000-1769700600@gersonadvisoryservices.com
SUMMARY:Webinar | Pre-Con Webinar: New Franchisor & Franchisee Members / 1st-Time Attendees
DESCRIPTION:Pre‑Convention webinar designed for new IFA franchisor and franchisee members and first‑time Annual Convention attendees. Covers what to expect\, how to prepare\, and tips to maximize the Convention experience.
URL:https://gersonadvisoryservices.com/event/webinar-pre-con-webinar-new-franchisor-franchisee-members-1st-time-attendees/
LOCATION:Virtual (Online Webinar)
CATEGORIES:Webinar
END:VEVENT
BEGIN:VEVENT
DTSTART;TZID=America/New_York:20260204T120000
DTEND;TZID=America/New_York:20260204T124500
DTSTAMP:20260423T164009
CREATED:20251222T035945Z
LAST-MODIFIED:20251222T041031Z
UID:2072-1770206400-1770209100@gersonadvisoryservices.com
SUMMARY:Multi-Unit Franchisee Success Series: The Routines of a Successful Multi-Unit Franchisee and CEO
DESCRIPTION:In this February session of the Multi‑Unit Franchisee Success Series\, attendees learn the daily and weekly habits that help top franchisees run multiple locations without burning out or micromanaging every detail.
URL:https://gersonadvisoryservices.com/event/multi-unit-franchisee-success-series-the-routines-of-a-successful-multi-unit-franchisee-and-ceo/
LOCATION:Virtual (Online Webinar)
CATEGORIES:Webinar
END:VEVENT
BEGIN:VEVENT
DTSTART;TZID=America/New_York:20260205T150000
DTEND;TZID=America/New_York:20260205T154500
DTSTAMP:20260423T164009
CREATED:20251228T233147Z
LAST-MODIFIED:20251228T233715Z
UID:2115-1770303600-1770306300@gersonadvisoryservices.com
SUMMARY:Webinar | Pre-Con Workshop: New Supplier Members & 1st-Time Supplier Attendees
DESCRIPTION:Pre‑Convention workshop for new IFA supplier members and first‑time supplier attendees. Provides guidance on navigating the IFA Annual Convention\, networking strategies\, and supplier best practices.
URL:https://gersonadvisoryservices.com/event/webinar-pre-con-workshop-new-supplier-members-1st-time-supplier-attendees/
LOCATION:Virtual (Online Webinar)
CATEGORIES:Webinar
END:VEVENT
BEGIN:VEVENT
DTSTART;TZID=America/Chicago:20260211T120000
DTEND;TZID=America/Chicago:20260211T130000
DTSTAMP:20260423T164009
CREATED:20251222T035945Z
LAST-MODIFIED:20251222T040328Z
UID:2069-1770811200-1770814800@gersonadvisoryservices.com
SUMMARY:Buying a Franchise as a Small Business Option
DESCRIPTION:This SCORE St. Louis webinar explains franchising as a small‑business option\, covering the wide range of industries and price points\, what franchising is and isn’t\, and how to match your skills with the right opportunity. Presenter Ben Terrill of FranNet shares insights and answers questions.
URL:https://gersonadvisoryservices.com/event/buying-a-franchise-as-a-small-business-option-2/
LOCATION:Virtual (Online Webinar)
CATEGORIES:Webinar
END:VEVENT
BEGIN:VEVENT
DTSTART;TZID=America/New_York:20260212T100000
DTEND;TZID=America/New_York:20260212T103000
DTSTAMP:20260423T164009
CREATED:20260106T222023Z
LAST-MODIFIED:20260106T223353Z
UID:2182-1770890400-1770892200@gersonadvisoryservices.com
SUMMARY:Webinar: Site Selection Best Practices for Franchise Growth
DESCRIPTION:This practical webinar explains how leading franchise networks standardize site selection decisions\, reduce risk and scale faster. Participants learn to define a repeatable “good location” profile\, evaluate territories consistently using market data\, and equip franchisees with easy-to-use evaluation tools.
URL:https://gersonadvisoryservices.com/event/webinar-site-selection-best-practices-for-franchise-growth/
LOCATION:Virtual (Online Webinar)
CATEGORIES:Webinar
END:VEVENT
BEGIN:VEVENT
DTSTART;TZID=America/Toronto:20260212T110000
DTEND;TZID=America/Toronto:20260212T160000
DTSTAMP:20260423T164009
CREATED:20260105T030206Z
LAST-MODIFIED:20260105T030603Z
UID:2138-1770894000-1770912000@gersonadvisoryservices.com
SUMMARY:Franchise Your Business Virtual Webinar
DESCRIPTION:This intensive webinar\, produced by the Canadian Franchise Association and Cassels Brock & Blackwell LLP\, teaches business owners how to convert a successful concept into a thriving franchise. Participants receive expert guidance from seasoned franchise professionals on legal structures\, operations\, sales\, marketing and growth strategies.
URL:https://gersonadvisoryservices.com/event/franchise-your-business-virtual-webinar/
LOCATION:Virtual (Online Webinar)
CATEGORIES:Webinar
END:VEVENT
BEGIN:VEVENT
DTSTART;TZID=Europe/London:20260212T130000
DTEND;TZID=Europe/London:20260212T133000
DTSTAMP:20260423T164009
CREATED:20260113T002730Z
LAST-MODIFIED:20260113T004656Z
UID:2265-1770901200-1770903000@gersonadvisoryservices.com
SUMMARY:Webinar: How to Franchise Your Business in the UK (February 2026)
DESCRIPTION:This 30‑minute webinar from UK franchise consultancy Familia teaches business owners how to convert a successful business into a scalable franchise. Attendees learn foundational elements\, financial realities and critical systems needed before franchising.
URL:https://gersonadvisoryservices.com/event/webinar-how-to-franchise-your-business-in-the-uk-february-2026/
LOCATION:Virtual (Online Webinar)
CATEGORIES:Webinar
END:VEVENT
BEGIN:VEVENT
DTSTART;TZID=America/New_York:20260217T120000
DTEND;TZID=America/New_York:20260217T130000
DTSTAMP:20260423T164009
CREATED:20251118T025623Z
LAST-MODIFIED:20251118T025859Z
UID:1774-1771329600-1771333200@gersonadvisoryservices.com
SUMMARY:Webinar | WFC – Take the Lead Tuesday’s – A Discussion with Catherine Monson\, CFE\, CEO & President\, Propelled brands
DESCRIPTION:This Take the Lead Tuesday webinar invites participants to a candid conversation with Catherine Monson\, CFE\, CEO & President of Propelled Brands. Hosted by the Women’s Franchise Committee\, the session provides leadership insights for women in franchising and encourages attendees to ask questions in a supportive\, unscripted environment.
URL:https://gersonadvisoryservices.com/event/webinar-wfc-take-the-lead-tuesdays-a-discussion-with-catherine-monson-cfe-ceo-president-propelled-brands/
LOCATION:Virtual (Online Webinar)
CATEGORIES:Webinar
END:VEVENT
BEGIN:VEVENT
DTSTART;TZID=America/New_York:20260219T160000
DTEND;TZID=America/New_York:20260219T173000
DTSTAMP:20260423T164009
CREATED:20251110T002055Z
LAST-MODIFIED:20251110T002616Z
UID:1739-1771516800-1771522200@gersonadvisoryservices.com
SUMMARY:Winter Series: Building the Franchise Growth Dashboard: KPIs That Matter
DESCRIPTION:Data drives performance when you focus on the right metrics. This session helps participants identify and prioritize KPIs across development\, operations\, marketing and finance\, and guides them in designing an actionable dashboard for smarter\, data-driven decisions.
URL:https://gersonadvisoryservices.com/event/winter-series-building-the-franchise-growth-dashboard-kpis-that-matter/
LOCATION:Virtual (Online Webinar)
CATEGORIES:Webinar
END:VEVENT
BEGIN:VEVENT
DTSTART;TZID=America/Los_Angeles:20260223T160000
DTEND;TZID=America/Los_Angeles:20260223T173000
DTSTAMP:20260423T164009
CREATED:20251222T035945Z
LAST-MODIFIED:20251222T040121Z
UID:2068-1771862400-1771867800@gersonadvisoryservices.com
SUMMARY:Become A Small Business Owner Through Franchising
DESCRIPTION:This SCORE Seattle online workshop helps aspiring entrepreneurs understand what franchising is and isn’t\, the laws and legal requirements in Washington State\, criteria for choosing a franchise\, due diligence methods and financing options\, with guidance from franchise coach Jeff Levy.
URL:https://gersonadvisoryservices.com/event/become-a-small-business-owner-through-franchising/
LOCATION:Virtual (Online Webinar)
CATEGORIES:Webinar
END:VEVENT
BEGIN:VEVENT
DTSTART;TZID=America/New_York:20260304T120000
DTEND;TZID=America/New_York:20260304T124500
DTSTAMP:20260423T164009
CREATED:20251222T035946Z
LAST-MODIFIED:20251222T041035Z
UID:2073-1772625600-1772628300@gersonadvisoryservices.com
SUMMARY:Multi-Unit Franchisee Success Series: What Should the District Manager Job Description Include
DESCRIPTION:This March webinar in the Multi‑Unit Franchisee Success Series explains what district managers should and shouldn’t be responsible for\, helping franchise owners delegate with confidence.
URL:https://gersonadvisoryservices.com/event/multi-unit-franchisee-success-series-what-should-the-district-manager-job-description-include/
LOCATION:Virtual (Online Webinar)
CATEGORIES:Webinar
END:VEVENT
BEGIN:VEVENT
DTSTART;TZID=America/New_York:20260310T130000
DTEND;TZID=America/New_York:20260310T133000
DTSTAMP:20260423T164009
CREATED:20260219T003856Z
LAST-MODIFIED:20260219T003856Z
UID:2482-1773147600-1773149400@gersonadvisoryservices.com
SUMMARY:Webinar | The Local Visibility Problem: Why Locations Struggle to Rank in 2026
DESCRIPTION:In this IFA Lunch & Learn webinar\, Xan Gulish\, VP of Business Development at Consumer Fusion\, explores how hyperlocal search has changed franchise visibility in 2026. The session breaks down why traditional listing strategies fail\, how local visibility is built at the neighborhood level\, and how brands can measure ranking progress across multiple locations.
URL:https://gersonadvisoryservices.com/event/webinar-the-local-visibility-problem-why-locations-struggle-to-rank-in-2026/
CATEGORIES:Webinar
END:VEVENT
BEGIN:VEVENT
DTSTART;TZID=America/New_York:20260311T140000
DTEND;TZID=America/New_York:20260311T150000
DTSTAMP:20260423T164009
CREATED:20260219T003856Z
LAST-MODIFIED:20260219T003856Z
UID:2483-1773237600-1773241200@gersonadvisoryservices.com
SUMMARY:Webinar | From Chaos to Clarity: How To Turn Inconsistent Franchise Data Into Real-Time Performance Insight
DESCRIPTION:In this IFA Wednesday Wise Webinar\, Qvinci CEO Brad Adams and Zachary Stein of Paul Davis Restoration discuss how elite franchises create a reliable data foundation to drive real-time performance management. The session covers data automation\, standardized chart of accounts\, vendor-agnostic inputs\, and franchise-focused financial infrastructure.
URL:https://gersonadvisoryservices.com/event/webinar-from-chaos-to-clarity-how-to-turn-inconsistent-franchise-data-into-real-time-performance-insight/
CATEGORIES:Webinar
END:VEVENT
BEGIN:VEVENT
DTSTART;TZID=America/New_York:20260317T130000
DTEND;TZID=America/New_York:20260317T133000
DTSTAMP:20260423T164009
CREATED:20260130T021603Z
LAST-MODIFIED:20260130T021949Z
UID:2410-1773752400-1773754200@gersonadvisoryservices.com
SUMMARY:Franchises Under Fire: Securing Your Business from Cybersecurity Threats
DESCRIPTION:Hackers work tirelessly to sharpen their tactics with AI and other tools\, threatening franchise systems with costly breaches. This IFA webinar helps franchise executives understand the cybersecurity landscape and offers cost-effective best practices to reduce risk and prepare for incidents.
URL:https://gersonadvisoryservices.com/event/franchises-under-fire-securing-your-business-from-cybersecurity-threats/
LOCATION:Online Webinar
CATEGORIES:Webinar
END:VEVENT
BEGIN:VEVENT
DTSTART;TZID=America/New_York:20260319T160000
DTEND;TZID=America/New_York:20260319T173000
DTSTAMP:20260423T164009
CREATED:20260311T040655Z
LAST-MODIFIED:20260311T041647Z
UID:2518-1773936000-1773941400@gersonadvisoryservices.com
SUMMARY:Spring Seasonal Learning 2026: Align & Accelerate Growth – Culture & Ethics as Competitive Advantage
DESCRIPTION:IFA Seasonal Learning Series session focused on how culture and ethics can serve as a competitive advantage for franchise systems while aligning leadership and accelerating growth.
URL:https://gersonadvisoryservices.com/event/spring-seasonal-learning-2026-align-accelerate-growth-culture-ethics-as-competitive-advantage/
LOCATION:Online Webinar
CATEGORIES:Webinar
END:VEVENT
BEGIN:VEVENT
DTSTART;TZID=America/New_York:20260401T140000
DTEND;TZID=America/New_York:20260401T150000
DTSTAMP:20260423T164009
CREATED:20260219T003856Z
LAST-MODIFIED:20260311T040656Z
UID:2484-1775052000-1775055600@gersonadvisoryservices.com
SUMMARY:Webinar | The Franchise Marketing Playbook: Driving Brand Unity & Local Growth
DESCRIPTION:In this IFA Wednesday Wise Webinar\, Scorpion introduces the Franchise Marketing Playbook\, a framework for maintaining consistent marketing execution across multi-location franchise systems while optimizing national and local marketing performance.
URL:https://gersonadvisoryservices.com/event/webinar-the-franchise-marketing-playbook-driving-brand-unity-local-growth/
LOCATION:Online Webinar
CATEGORIES:Webinar
END:VEVENT
END:VCALENDAR