BEGIN:VCALENDAR
VERSION:2.0
PRODID:-//Gerson Advisory Services - ECPv6.15.20//NONSGML v1.0//EN
CALSCALE:GREGORIAN
METHOD:PUBLISH
X-WR-CALNAME:Gerson Advisory Services
X-ORIGINAL-URL:https://gersonadvisoryservices.com
X-WR-CALDESC:Events for Gerson Advisory Services
REFRESH-INTERVAL;VALUE=DURATION:PT1H
X-Robots-Tag:noindex
X-PUBLISHED-TTL:PT1H
BEGIN:VTIMEZONE
TZID:America/New_York
BEGIN:DAYLIGHT
TZOFFSETFROM:-0500
TZOFFSETTO:-0400
TZNAME:EDT
DTSTART:20240310T070000
END:DAYLIGHT
BEGIN:STANDARD
TZOFFSETFROM:-0400
TZOFFSETTO:-0500
TZNAME:EST
DTSTART:20241103T060000
END:STANDARD
BEGIN:DAYLIGHT
TZOFFSETFROM:-0500
TZOFFSETTO:-0400
TZNAME:EDT
DTSTART:20250309T070000
END:DAYLIGHT
BEGIN:STANDARD
TZOFFSETFROM:-0400
TZOFFSETTO:-0500
TZNAME:EST
DTSTART:20251102T060000
END:STANDARD
BEGIN:DAYLIGHT
TZOFFSETFROM:-0500
TZOFFSETTO:-0400
TZNAME:EDT
DTSTART:20260308T070000
END:DAYLIGHT
BEGIN:STANDARD
TZOFFSETFROM:-0400
TZOFFSETTO:-0500
TZNAME:EST
DTSTART:20261101T060000
END:STANDARD
BEGIN:DAYLIGHT
TZOFFSETFROM:-0500
TZOFFSETTO:-0400
TZNAME:EDT
DTSTART:20270314T070000
END:DAYLIGHT
BEGIN:STANDARD
TZOFFSETFROM:-0400
TZOFFSETTO:-0500
TZNAME:EST
DTSTART:20271107T060000
END:STANDARD
END:VTIMEZONE
BEGIN:VTIMEZONE
TZID:America/Los_Angeles
BEGIN:DAYLIGHT
TZOFFSETFROM:-0800
TZOFFSETTO:-0700
TZNAME:PDT
DTSTART:20240310T100000
END:DAYLIGHT
BEGIN:STANDARD
TZOFFSETFROM:-0700
TZOFFSETTO:-0800
TZNAME:PST
DTSTART:20241103T090000
END:STANDARD
BEGIN:DAYLIGHT
TZOFFSETFROM:-0800
TZOFFSETTO:-0700
TZNAME:PDT
DTSTART:20250309T100000
END:DAYLIGHT
BEGIN:STANDARD
TZOFFSETFROM:-0700
TZOFFSETTO:-0800
TZNAME:PST
DTSTART:20251102T090000
END:STANDARD
BEGIN:DAYLIGHT
TZOFFSETFROM:-0800
TZOFFSETTO:-0700
TZNAME:PDT
DTSTART:20260308T100000
END:DAYLIGHT
BEGIN:STANDARD
TZOFFSETFROM:-0700
TZOFFSETTO:-0800
TZNAME:PST
DTSTART:20261101T090000
END:STANDARD
END:VTIMEZONE
BEGIN:VTIMEZONE
TZID:Europe/London
BEGIN:DAYLIGHT
TZOFFSETFROM:+0000
TZOFFSETTO:+0100
TZNAME:BST
DTSTART:20250330T010000
END:DAYLIGHT
BEGIN:STANDARD
TZOFFSETFROM:+0100
TZOFFSETTO:+0000
TZNAME:GMT
DTSTART:20251026T010000
END:STANDARD
BEGIN:DAYLIGHT
TZOFFSETFROM:+0000
TZOFFSETTO:+0100
TZNAME:BST
DTSTART:20260329T010000
END:DAYLIGHT
BEGIN:STANDARD
TZOFFSETFROM:+0100
TZOFFSETTO:+0000
TZNAME:GMT
DTSTART:20261025T010000
END:STANDARD
BEGIN:DAYLIGHT
TZOFFSETFROM:+0000
TZOFFSETTO:+0100
TZNAME:BST
DTSTART:20270328T010000
END:DAYLIGHT
BEGIN:STANDARD
TZOFFSETFROM:+0100
TZOFFSETTO:+0000
TZNAME:GMT
DTSTART:20271031T010000
END:STANDARD
END:VTIMEZONE
BEGIN:VTIMEZONE
TZID:America/Toronto
BEGIN:DAYLIGHT
TZOFFSETFROM:-0500
TZOFFSETTO:-0400
TZNAME:EDT
DTSTART:20250309T070000
END:DAYLIGHT
BEGIN:STANDARD
TZOFFSETFROM:-0400
TZOFFSETTO:-0500
TZNAME:EST
DTSTART:20251102T060000
END:STANDARD
BEGIN:DAYLIGHT
TZOFFSETFROM:-0500
TZOFFSETTO:-0400
TZNAME:EDT
DTSTART:20260308T070000
END:DAYLIGHT
BEGIN:STANDARD
TZOFFSETFROM:-0400
TZOFFSETTO:-0500
TZNAME:EST
DTSTART:20261101T060000
END:STANDARD
BEGIN:DAYLIGHT
TZOFFSETFROM:-0500
TZOFFSETTO:-0400
TZNAME:EDT
DTSTART:20270314T070000
END:DAYLIGHT
BEGIN:STANDARD
TZOFFSETFROM:-0400
TZOFFSETTO:-0500
TZNAME:EST
DTSTART:20271107T060000
END:STANDARD
END:VTIMEZONE
BEGIN:VEVENT
DTSTART;TZID=America/New_York:20251117T140000
DTEND;TZID=America/New_York:20251117T150000
DTSTAMP:20260423T193229
CREATED:20251110T004457Z
LAST-MODIFIED:20251110T004457Z
UID:1752-1763388000-1763391600@gersonadvisoryservices.com
SUMMARY:Webinar | Redefining Franchisee Performance: Why Unit-Level Success Ratio Beats AUV Metrics
DESCRIPTION:Join Keith Gerson and guest Gerry Henley for a live 60-minute session exploring how top franchisors replace AUV with the Unit-Level Success Ratio (ULSR) to measure true profitability and operational success.
URL:https://gersonadvisoryservices.com/event/webinar-redefining-franchisee-performance-why-unit-level-success-ratio-beats-auv-metrics/
LOCATION:Virtual (Online Webinar)
CATEGORIES:Webinar
END:VEVENT
BEGIN:VEVENT
DTSTART;TZID=America/New_York:20251118T130000
DTEND;TZID=America/New_York:20251118T133000
DTSTAMP:20260423T193229
CREATED:20251103T023426Z
LAST-MODIFIED:20251103T023426Z
UID:1621-1763470800-1763472600@gersonadvisoryservices.com
SUMMARY:Webinar | Silent Churn: The Customers You Don’t Know You’re Losing
DESCRIPTION:Learn how to detect and prevent silent churn in franchise networks. Listen360 experts share strategies for recognizing disengaged customers and using real-time feedback\, alerts\, and trend analysis to improve retention.
URL:https://gersonadvisoryservices.com/event/webinar-silent-churn-the-customers-you-dont-know-youre-losing/
CATEGORIES:Webinar
END:VEVENT
BEGIN:VEVENT
DTSTART;TZID=America/New_York:20251119T130000
DTEND;TZID=America/New_York:20251119T140000
DTSTAMP:20260423T193229
CREATED:20251118T031658Z
LAST-MODIFIED:20251118T032020Z
UID:1788-1763557200-1763560800@gersonadvisoryservices.com
SUMMARY:Maryland’s Fast Track Franchise Registration Pilot Program — What Franchisors and Counsel Need to Know
DESCRIPTION:This virtual session covers Maryland’s new Fast Track Franchise Registration Pilot Program launching with the 2026 renewal cycle. Attendees will learn eligibility requirements\, application steps\, preparation strategies\, and hear insights from legal experts Lee Plave (Plave Koch PLC) and Keri McWilliams (Nixon Peabody LLP). Designed for franchisors and legal teams aiming to streamline their registration process.
URL:https://gersonadvisoryservices.com/event/fast-track-franchise-registration-pilot-program-2026-cycle-overview/
LOCATION:Virtual (Online Webinar)
CATEGORIES:Webinar
END:VEVENT
BEGIN:VEVENT
DTSTART;TZID=America/Los_Angeles:20251119T140000
DTEND;TZID=America/Los_Angeles:20251119T150000
DTSTAMP:20260423T193229
CREATED:20251105T001431Z
LAST-MODIFIED:20251105T001650Z
UID:1679-1763560800-1763564400@gersonadvisoryservices.com
SUMMARY:Webinar: Multi-Unit Franchisee Success
DESCRIPTION:Join us for a free 60-minute information webinar where we share the secrets of top-performing franchisees and how to grow into a multi-unit franchise organization successfully.
URL:https://gersonadvisoryservices.com/event/webinar-multi-unit-franchisee-success/
CATEGORIES:Webinar
END:VEVENT
BEGIN:VEVENT
DTSTART;TZID=America/New_York:20251120T130000
DTEND;TZID=America/New_York:20251120T134500
DTSTAMP:20260423T193229
CREATED:20251103T023426Z
LAST-MODIFIED:20251103T023426Z
UID:1622-1763643600-1763646300@gersonadvisoryservices.com
SUMMARY:Webinar | How to Scale Local Marketing Without Losing Control
DESCRIPTION:This webinar explores how franchise brands can scale local marketing efforts while maintaining brand standards. Christopher G. Brown demonstrates Marvia’s distributed marketing platform\, which enables franchisees to create on-brand materials\, launch campaigns\, and access approved assets\, reducing corporate workload and ensuring compliance.
URL:https://gersonadvisoryservices.com/event/webinar-how-to-scale-local-marketing-without-losing-control/
CATEGORIES:Webinar
END:VEVENT
BEGIN:VEVENT
DTSTART;TZID=America/New_York:20251120T160000
DTEND;TZID=America/New_York:20251120T173000
DTSTAMP:20260423T193229
CREATED:20250901T145739Z
LAST-MODIFIED:20250901T145739Z
UID:1111-1763654400-1763659800@gersonadvisoryservices.com
SUMMARY:Training\, Development and Retention of Franchise Talent
DESCRIPTION:IFA Fall Learning Series session focusing on training and retaining franchise talent and designing training programs.
URL:https://gersonadvisoryservices.com/event/training-development-and-retention-of-franchise-talent/
CATEGORIES:Webinar
END:VEVENT
BEGIN:VEVENT
DTSTART;TZID=America/New_York:20251202T130000
DTEND;TZID=America/New_York:20251202T133000
DTSTAMP:20260423T193229
CREATED:20251124T000343Z
LAST-MODIFIED:20251124T000703Z
UID:1830-1764680400-1764682200@gersonadvisoryservices.com
SUMMARY:Webinar | What 73\,000 Franchise Sidekick Clients Taught Us And How It Can Transform Your Development Strategy
DESCRIPTION:Franchise Sidekick analyzed more than 73\,000 prospective franchisees and 3\,500 client surveys to create the Best Damn Franchise Report. This webinar shares insights on the buyer avatars driving today’s franchise market\, shifting risk tolerance and the “Say‑Do Gap\,” top concerns that slow deals\, and how to adjust your messaging\, qualification process and development strategy to move more qualified candidates to confirmation day.
URL:https://gersonadvisoryservices.com/event/webinar-what-73000-franchise-sidekick-clients-taught-us-and-how-it-can-transform-your-development-strategy/
CATEGORIES:Webinar
END:VEVENT
BEGIN:VEVENT
DTSTART;TZID=America/Los_Angeles:20251203T140000
DTEND;TZID=America/Los_Angeles:20251203T150000
DTSTAMP:20260423T193229
CREATED:20251105T001432Z
LAST-MODIFIED:20251105T001913Z
UID:1680-1764770400-1764774000@gersonadvisoryservices.com
SUMMARY:Information Webinar: The Effective District Manager
DESCRIPTION:Join us for a free 60-minute information webinar to learn the role\, responsibilities\, and routines of an effective District Manager and how our Multi-Unit Leadership Certification program can help you develop your district managers to delegate operations with confidence and achieve your business and financial goals.
URL:https://gersonadvisoryservices.com/event/information-webinar-the-effective-district-manager/
CATEGORIES:Webinar
END:VEVENT
BEGIN:VEVENT
DTSTART;TZID=America/New_York:20251203T140000
DTEND;TZID=America/New_York:20251203T150000
DTSTAMP:20260423T193229
CREATED:20251118T030049Z
LAST-MODIFIED:20251118T030049Z
UID:1780-1764770400-1764774000@gersonadvisoryservices.com
SUMMARY:Lead Generation at a Crossroads: How Smart Franchisors Are Cutting Costs and Boosting Conversions
DESCRIPTION:Lead generation costs have doubled in four years. Deals now run $17\,000 to $28\,500 each. This webinar breaks down how forward-thinking franchisors cut costs\, increase deal flow\, and build diversified lead pipelines without relying on one channel. James Stapleton\, Steven Inglefield\, and Nicole Kauffman share the exact strategies they use to improve candidate quality\, expand consultant partnerships\, raise meeting volume\, and boost ROI heading into 2026.
URL:https://gersonadvisoryservices.com/event/lead-generation-at-a-crossroads-how-smart-franchisors-are-cutting-costs-and-boosting-conversions/
LOCATION:Virtual (Online Webinar)
CATEGORIES:Webinar
END:VEVENT
BEGIN:VEVENT
DTSTART;TZID=America/New_York:20251203T140000
DTEND;TZID=America/New_York:20251203T150000
DTSTAMP:20260423T193229
CREATED:20251127T020039Z
LAST-MODIFIED:20251127T020039Z
UID:1866-1764770400-1764774000@gersonadvisoryservices.com
SUMMARY:Webinar | BFLC: Journey from Corporate Career to Multi-Unit Franchise Ownership
DESCRIPTION:Leaving the corporate world to become a franchise owner is one of the most rewarding — and challenging — transitions you can make. The Black Franchise Leadership Council welcomes Nicole Drake\, multi-unit owner with Tropical Smoothie Café and Another Broken Egg Café\, and Kendra Plummer\, Founder & CEO of Elise Capital\, who transitioned from real estate finance to leading her own investment firm\, to share their journeys from established careers to multi-unit ownership. What you’ll hear: What motivated their move; How they prepared for the leap; The biggest lessons learned along the way.
URL:https://gersonadvisoryservices.com/event/webinar-bflc-journey-from-corporate-career-to-multi-unit-franchise-ownership/
LOCATION:Virtual (Online Webinar)
CATEGORIES:Webinar
END:VEVENT
BEGIN:VEVENT
DTSTART;TZID=America/New_York:20251209T130000
DTEND;TZID=America/New_York:20251209T133000
DTSTAMP:20260423T193229
CREATED:20251110T002055Z
LAST-MODIFIED:20251110T002202Z
UID:1735-1765285200-1765287000@gersonadvisoryservices.com
SUMMARY:Webinar | The Data-Driven Profit Engine: How to Turn Franchisees Into Growth
DESCRIPTION:Learn how to turn complex location data into real-time insights that franchisees can use. Experts from Qvinci and Monster Tree Service share how to convert data into growth and replicate success across franchise locations.
URL:https://gersonadvisoryservices.com/event/webinar-the-data-driven-profit-engine-how-to-turn-franchisees-into-growth/
LOCATION:Virtual (Online Webinar)
CATEGORIES:Webinar
END:VEVENT
BEGIN:VEVENT
DTSTART;TZID=America/New_York:20251210T120000
DTEND;TZID=America/New_York:20251210T130000
DTSTAMP:20260423T193229
CREATED:20251105T001432Z
LAST-MODIFIED:20251105T001432Z
UID:1681-1765368000-1765371600@gersonadvisoryservices.com
SUMMARY:Webinar: Is Staffing Franchising Right for Me?
DESCRIPTION:Join us December 10th 2025 at 12 PM EST and see what it really means to build a legacy\, disrupt an industry\, and have a blast doing it. Learn about iBoost Talent’s entrepreneur-first franchise model that prioritizes people\, support\, and synergy to fuel franchise success.
URL:https://gersonadvisoryservices.com/event/webinar-is-staffing-franchising-right-for-me/
CATEGORIES:Webinar
END:VEVENT
BEGIN:VEVENT
DTSTART;TZID=America/New_York:20251210T120000
DTEND;TZID=America/New_York:20251210T130000
DTSTAMP:20260423T193229
CREATED:20251118T030049Z
LAST-MODIFIED:20251118T030049Z
UID:1779-1765368000-1765371600@gersonadvisoryservices.com
SUMMARY:From Chaos to Clarity: The Future of Franchise Risk Management & Insurance
DESCRIPTION:Franchise leaders are done chasing COIs\, updating messy spreadsheets\, and hoping franchisees stay compliant. In this session\, Keith Gerson and Wade Milward break down how 130+ franchise brands use modern automation to get real-time visibility\, enforceable insurance requirements\, and a compliance process that actually protects the network. Learn how Five Star Franchising\, HomeFront\, Voda\, HorsePower Brands\, and The DRIPBaR are transforming their systems and turning risk management into a competitive advantage.
URL:https://gersonadvisoryservices.com/event/from-chaos-to-clarity-the-future-of-franchise-risk-management-insurance/
LOCATION:Virtual (Online Webinar)
CATEGORIES:Webinar
END:VEVENT
BEGIN:VEVENT
DTSTART;TZID=America/New_York:20251215T130000
DTEND;TZID=America/New_York:20251215T143000
DTSTAMP:20260423T193229
CREATED:20251127T020039Z
LAST-MODIFIED:20251127T020729Z
UID:1867-1765803600-1765809000@gersonadvisoryservices.com
SUMMARY:Webinar | Getting Ready for FDD Update Season
DESCRIPTION:As the annual Franchise Disclosure Document (FDD) update season approaches\, franchisors must navigate evolving disclosure requirements\, system changes\, and increased regulatory scrutiny. This panel brings together leading franchise attorneys and mediators to provide clear\, practical guidance for the 2025 update cycle. Panelists will share insights from decades of experience in franchise law\, dispute resolution\, and in-house leadership. Their combined perspectives will help franchisors identify risks\, strengthen disclosures\, and avoid the issues that commonly lead to litigation or regulatory challenges. What will be discussed: Key legal and regulatory updates affecting 2025 FDDs; How to assess and update fees\, Item 19s\, and system changes; Common dispute themes—and how better disclosures prevent them; Mediation insights: how FDD drafting impacts conflict outcomes; Practical timelines and best practices for a smooth update process. Attendees will gain actionable takeaways to ensure their FDDs are accurate\, compliant\, and protective of the brand heading into the new franchise year.
URL:https://gersonadvisoryservices.com/event/webinar-getting-ready-for-fdd-update-season/
LOCATION:Virtual (Online Webinar)
CATEGORIES:Webinar
END:VEVENT
BEGIN:VEVENT
DTSTART;TZID=America/New_York:20251216T110000
DTEND;TZID=America/New_York:20251216T120000
DTSTAMP:20260423T193229
CREATED:20251112T041328Z
LAST-MODIFIED:20251112T041328Z
UID:1756-1765882800-1765886400@gersonadvisoryservices.com
SUMMARY:Webinar | Maximizing Your Membership: December '25 New Member Onboarding Webinar
DESCRIPTION:New to the IFA and unsure where to start? This free webinar helps new and long‑time members learn how the IFA protects\, enhances and promotes its members. Sydni Konoha and Zack Kirshner share programs like Franship\, regional events and government relations\, with guest speakers offering insights to maximize membership benefits.
URL:https://gersonadvisoryservices.com/event/webinar-maximizing-your-membership-december-25-new-member-onboarding-webinar/
LOCATION:Virtual (Online Webinar)
CATEGORIES:Webinar
END:VEVENT
BEGIN:VEVENT
DTSTART;TZID=America/New_York:20251216T120000
DTEND;TZID=America/New_York:20251216T130000
DTSTAMP:20260423T193229
CREATED:20251124T000343Z
LAST-MODIFIED:20251124T000616Z
UID:1829-1765886400-1765890000@gersonadvisoryservices.com
SUMMARY:Webinar | WFC: Take the Lead Tuesdays – A Roundtable Series featuring Carolyn Thurston
DESCRIPTION:The Women’s Franchise Committee invites you to Take the Lead Tuesdays\, a virtual roundtable series created by women in franchising for women in franchising and their allies. Each session features a 10‑minute spotlight on a powerful woman in franchising followed by unscripted\, unrecorded conversation\, providing a safe space for mentorship\, connection and growth.
URL:https://gersonadvisoryservices.com/event/webinar-wfc-take-the-lead-tuesdays-a-roundtable-series-featuring-carolyn-thurston/
CATEGORIES:Webinar
END:VEVENT
BEGIN:VEVENT
DTSTART;TZID=America/New_York:20251216T130000
DTEND;TZID=America/New_York:20251216T133000
DTSTAMP:20260423T193229
CREATED:20251127T020039Z
LAST-MODIFIED:20251127T020316Z
UID:1864-1765890000-1765891800@gersonadvisoryservices.com
SUMMARY:Webinar | Inspire\, Don’t Require: How Elite Franchisors Drive Franchisee Adoption and Profits
DESCRIPTION:Elite franchise leaders know that technology adoption isn’t just about compliance or some rule in an FDD — it’s about creating a team culture through inspiration and motivation. This IFA Lunch-N-Learn explores how leading brands transform financial reporting from a burden into a benefit\, driving adoption\, engagement and profitability at scale through real-world case studies.
URL:https://gersonadvisoryservices.com/event/webinar-inspire-dont-require-how-elite-franchisors-drive-franchisee-adoption-and-profits/
LOCATION:Virtual (Online Webinar)
CATEGORIES:Webinar
END:VEVENT
BEGIN:VEVENT
DTSTART;TZID=America/New_York:20251217T120000
DTEND;TZID=America/New_York:20251217T130000
DTSTAMP:20260423T193229
CREATED:20251214T191600Z
LAST-MODIFIED:20251214T191734Z
UID:2042-1765972800-1765976400@gersonadvisoryservices.com
SUMMARY:Franchising in Southeast Asia: What You Need to Know
DESCRIPTION:The IFA International Committee invites franchisors to explore growth opportunities across Southeast Asia in this virtual webinar. Leaders from government\, private practice\, and corporate teams will share insights on market dynamics\, regulatory frameworks\, and operational strategies for international franchise expansion.
URL:https://gersonadvisoryservices.com/event/franchising-in-southeast-asia-what-you-need-to-know/
LOCATION:Virtual (Online Webinar)
CATEGORIES:Webinar
END:VEVENT
BEGIN:VEVENT
DTSTART;TZID=America/New_York:20251218T120000
DTEND;TZID=America/New_York:20251218T130000
DTSTAMP:20260423T193229
CREATED:20251022T205034Z
LAST-MODIFIED:20251022T205034Z
UID:1502-1766059200-1766062800@gersonadvisoryservices.com
SUMMARY:Webinar: The See Stage – Understanding Different Perspectives & System Thinking
DESCRIPTION:Explores how franchisees can appreciate the bigger picture and encourage system thinking\, open communication and collaboration to drive collective growth and resilience.
URL:https://gersonadvisoryservices.com/event/webinar-the-see-stage-understanding-different-perspectives-system-thinking/
CATEGORIES:Webinar
END:VEVENT
BEGIN:VEVENT
DTSTART;TZID=America/New_York:20251218T160000
DTEND;TZID=America/New_York:20251218T173000
DTSTAMP:20260423T193229
CREATED:20251110T002055Z
LAST-MODIFIED:20251110T002426Z
UID:1737-1766073600-1766079000@gersonadvisoryservices.com
SUMMARY:Winter Series: 2026 Franchise Trends & Strategic Planning Summit
DESCRIPTION:Kick off 2026 with a forward-looking summit exploring economic\, legislative and consumer trends shaping franchising. Industry analysts and franchisor executives provide insights\, followed by an interactive planning exercise to create a focused roadmap for the year ahead.
URL:https://gersonadvisoryservices.com/event/winter-series-2026-franchise-trends-strategic-planning-summit/
LOCATION:Virtual (Online Webinar)
CATEGORIES:Webinar
END:VEVENT
BEGIN:VEVENT
DTSTART;TZID=America/New_York:20260106T130000
DTEND;TZID=America/New_York:20260106T140000
DTSTAMP:20260423T193229
CREATED:20260105T030206Z
LAST-MODIFIED:20260105T030322Z
UID:2135-1767704400-1767708000@gersonadvisoryservices.com
SUMMARY:From Service to CEO: Why Veterans Make Great Franchise Owners
DESCRIPTION:This free webinar explores why veterans make exceptional franchise owners. Speakers discuss how leadership and teamwork skills translate into business ownership\, how AI-driven economics create opportunities\, the return on investment of owning a business versus working for someone else\, and provide a strategy for evaluating franchise opportunities.
URL:https://gersonadvisoryservices.com/event/from-service-to-ceo-why-veterans-make-great-franchise-owners/
LOCATION:Virtual (Online Webinar)
CATEGORIES:Webinar
END:VEVENT
BEGIN:VEVENT
DTSTART;TZID=America/New_York:20260107T120000
DTEND;TZID=America/New_York:20260107T124500
DTSTAMP:20260423T193229
CREATED:20251222T035945Z
LAST-MODIFIED:20251222T041027Z
UID:2071-1767787200-1767789900@gersonadvisoryservices.com
SUMMARY:Multi-Unit Franchisee Success Series: Why Unit Managers Don’t Perform – And What To Do About It
DESCRIPTION:Part of the American Franchise Academy’s free 12‑part webinar series\, this session on January 7\, 2026 uncovers the hidden reasons unit managers underperform and offers straightforward fixes to turn them into top operators.
URL:https://gersonadvisoryservices.com/event/multi-unit-franchisee-success-series-why-unit-managers-dont-perform-and-what-to-do-about-it/
LOCATION:Virtual (Online Webinar)
CATEGORIES:Webinar
END:VEVENT
BEGIN:VEVENT
DTSTART;TZID=Europe/London:20260109T070000
DTEND;TZID=Europe/London:20260109T073000
DTSTAMP:20260423T193229
CREATED:20251222T035946Z
LAST-MODIFIED:20251222T041752Z
UID:2075-1767942000-1767943800@gersonadvisoryservices.com
SUMMARY:Webinar: How to Franchise Your Business in the UK
DESCRIPTION:This 30‑minute webinar from UK franchise consultancy Familia teaches business owners how to convert a successful business into a scalable franchise. It covers foundational elements\, financial realities and critical systems needed before franchising. The session takes place on Friday\, 9 January 2026 at 12:00 pm–12:30 pm GMT.
URL:https://gersonadvisoryservices.com/event/webinar-how-to-franchise-your-business-in-the-uk/
LOCATION:Virtual (Online Webinar)
CATEGORIES:Webinar
END:VEVENT
BEGIN:VEVENT
DTSTART;VALUE=DATE:20260114
DTEND;VALUE=DATE:20260115
DTSTAMP:20260423T193229
CREATED:20260311T040833Z
LAST-MODIFIED:20260311T040833Z
UID:2527-1768348800-1768435199@gersonadvisoryservices.com
SUMMARY:January Executive Leadership Journey: The 6 Critical Practices for Leading a Team
DESCRIPTION:Part of IFA’s Executive Leadership Journey series\, this session explores the six critical practices leaders use to build trust\, drive team performance and lead effectively in franchise organizations.
URL:https://gersonadvisoryservices.com/event/january-executive-leadership-journey-the-6-critical-practices-for-leading-a-team-2/
LOCATION:Online Webinar
CATEGORIES:Webinar
END:VEVENT
BEGIN:VEVENT
DTSTART;TZID=America/New_York:20260114T120000
DTEND;TZID=America/New_York:20260114T133000
DTSTAMP:20260423T193229
CREATED:20260105T030206Z
LAST-MODIFIED:20260105T030206Z
UID:2136-1768392000-1768397400@gersonadvisoryservices.com
SUMMARY:Franchising 101: Starting a Business Through a Franchise
DESCRIPTION:An online seminar teaching aspiring entrepreneurs what it takes to become a successful franchise owner in Virginia. The session covers how to assess potential franchises\, which concepts perform well in the region\, relevant regulations\, trends and opportunities\, and how to align your skills with the right franchise.
URL:https://gersonadvisoryservices.com/event/franchising-101-starting-a-business-through-a-franchise/
LOCATION:Virtual (Online Webinar)
CATEGORIES:Webinar
END:VEVENT
BEGIN:VEVENT
DTSTART;TZID=America/New_York:20260114T130000
DTEND;TZID=America/New_York:20260114T140000
DTSTAMP:20260423T193229
CREATED:20260105T030230Z
LAST-MODIFIED:20260105T030230Z
UID:2141-1768395600-1768399200@gersonadvisoryservices.com
SUMMARY:Learn & Grow Virtual Webinar: Earning Your CFE Designation – You’re Already on Your Way
DESCRIPTION:This session guides franchise professionals through the process of earning their Certified Franchise Executive designation. It explains how the credential elevates your expertise\, expands your network and enhances your credibility\, and offers step-by-step advice on completing the program and final credits.
URL:https://gersonadvisoryservices.com/event/learn-grow-virtual-webinar-earning-your-cfe-designation-youre-already-on-your-way/
LOCATION:Virtual (Online Webinar)
CATEGORIES:Webinar
END:VEVENT
BEGIN:VEVENT
DTSTART;TZID=America/New_York:20260115T160000
DTEND;TZID=America/New_York:20260115T173000
DTSTAMP:20260423T193229
CREATED:20251110T002055Z
LAST-MODIFIED:20251110T002522Z
UID:1738-1768492800-1768498200@gersonadvisoryservices.com
SUMMARY:Winter Series: Blueprint for a Scalable Franchise Model
DESCRIPTION:Discover what makes a franchise concept scalable and sustainable. This session covers the building blocks of a strong franchise model\, from defining a differentiated value proposition to developing replicable systems\, with practical templates and case examples for long-term success.
URL:https://gersonadvisoryservices.com/event/winter-series-blueprint-for-a-scalable-franchise-model/
LOCATION:Virtual (Online Webinar)
CATEGORIES:Webinar
END:VEVENT
BEGIN:VEVENT
DTSTART;TZID=America/New_York:20260120T120000
DTEND;TZID=America/New_York:20260120T130000
DTSTAMP:20260423T193229
CREATED:20251118T025623Z
LAST-MODIFIED:20251118T025721Z
UID:1773-1768910400-1768914000@gersonadvisoryservices.com
SUMMARY:Webinar | WFC: Take the Lead Tuesdays – A Roundtable Series featuring Robin Gagnon\, CEO & Co‑Founder\, We Sell Restaurants
DESCRIPTION:The International Franchise Association’s Women’s Franchise Committee hosts a monthly Take the Lead Tuesdays roundtable series where women in franchising connect in an unscripted\, supportive environment. Each session begins with a 10‑minute spotlight on a franchise leader—in this edition\, Robin Gagnon\, CEO & Co‑Founder of We Sell Restaurants—followed by open discussion and mentorship\, with no slides or recordings.
URL:https://gersonadvisoryservices.com/event/webinar-wfc-take-the-lead-tuesdays-a-roundtable-series-featuring-robin-gagnon-ceo-co%e2%80%91founder-we-sell-restaurants/
LOCATION:Virtual (Online Webinar)
CATEGORIES:Webinar
END:VEVENT
BEGIN:VEVENT
DTSTART;TZID=America/New_York:20260120T130000
DTEND;TZID=America/New_York:20260120T133000
DTSTAMP:20260423T193229
CREATED:20251228T233147Z
LAST-MODIFIED:20251228T233507Z
UID:2113-1768914000-1768915800@gersonadvisoryservices.com
SUMMARY:Webinar | AI: Not Just for Emails Anymore
DESCRIPTION:Discover how AI-driven tools are helping brands optimize both franchise development and franchisee success. Speakers explore practical AI applications across operations\, marketing\, development\, and consumer engagement.
URL:https://gersonadvisoryservices.com/event/webinar-ai-not-just-for-emails-anymore/
LOCATION:Virtual (Online Webinar)
CATEGORIES:Webinar
END:VEVENT
BEGIN:VEVENT
DTSTART;TZID=America/Toronto:20260120T140000
DTEND;TZID=America/Toronto:20260120T150000
DTSTAMP:20260423T193229
CREATED:20251222T035946Z
LAST-MODIFIED:20251222T041903Z
UID:2076-1768917600-1768921200@gersonadvisoryservices.com
SUMMARY:The UPS Store Franchise Webinar
DESCRIPTION:The UPS Store Canada invites prospective franchisees to a virtual webinar on January 20\, 2026 from 2:00 pm–3:00 pm EST. Attendees learn about The UPS Store franchise opportunity and how the brand supports new owners.
URL:https://gersonadvisoryservices.com/event/the-ups-store-franchise-webinar/
LOCATION:Virtual (Online Webinar)
CATEGORIES:Webinar
END:VEVENT
END:VCALENDAR