BEGIN:VCALENDAR
VERSION:2.0
PRODID:-//Gerson Advisory Services - ECPv6.15.20//NONSGML v1.0//EN
CALSCALE:GREGORIAN
METHOD:PUBLISH
X-ORIGINAL-URL:https://gersonadvisoryservices.com
X-WR-CALDESC:Events for Gerson Advisory Services
REFRESH-INTERVAL;VALUE=DURATION:PT1H
X-Robots-Tag:noindex
X-PUBLISHED-TTL:PT1H
BEGIN:VTIMEZONE
TZID:America/New_York
BEGIN:DAYLIGHT
TZOFFSETFROM:-0500
TZOFFSETTO:-0400
TZNAME:EDT
DTSTART:20250309T070000
END:DAYLIGHT
BEGIN:STANDARD
TZOFFSETFROM:-0400
TZOFFSETTO:-0500
TZNAME:EST
DTSTART:20251102T060000
END:STANDARD
BEGIN:DAYLIGHT
TZOFFSETFROM:-0500
TZOFFSETTO:-0400
TZNAME:EDT
DTSTART:20260308T070000
END:DAYLIGHT
BEGIN:STANDARD
TZOFFSETFROM:-0400
TZOFFSETTO:-0500
TZNAME:EST
DTSTART:20261101T060000
END:STANDARD
BEGIN:DAYLIGHT
TZOFFSETFROM:-0500
TZOFFSETTO:-0400
TZNAME:EDT
DTSTART:20270314T070000
END:DAYLIGHT
BEGIN:STANDARD
TZOFFSETFROM:-0400
TZOFFSETTO:-0500
TZNAME:EST
DTSTART:20271107T060000
END:STANDARD
END:VTIMEZONE
BEGIN:VEVENT
DTSTART;VALUE=DATE:20260105
DTEND;VALUE=DATE:20260215
DTSTAMP:20260423T190522
CREATED:20251209T041928Z
LAST-MODIFIED:20251209T042220Z
UID:2000-1767571200-1771113599@gersonadvisoryservices.com
SUMMARY:Course | IFA Foundations of Franchising – January 2026
DESCRIPTION:Six-week online bootcamp for franchisees\, franchisors and suppliers to learn the fundamentals of franchising. Presented in partnership with the YUM! Center for Global Franchise Excellence at the University of Louisville\, this immersive course runs from January 5 to February 14 2026. Participants explore the dynamics of the franchise model\, learn strategic leadership skills and obtain tools to drive franchise growth.
URL:https://gersonadvisoryservices.com/event/course-ifa-foundations-of-franchising-january-2026/
LOCATION:Online Course
CATEGORIES:Education
END:VEVENT
END:VCALENDAR